BEGIN:VCALENDAR
VERSION:2.0
PRODID:-//ChamberMaster//Event Calendar 2.0//EN
METHOD:PUBLISH
X-PUBLISHED-TTL:P3D
REFRESH-INTERVAL:P3D
CALSCALE:GREGORIAN
BEGIN:VEVENT
DTSTART:20090201T003000Z
DTEND:20090201T050000Z
X-MICROSOFT-CDO-ALLDAYEVENT:FALSE
SUMMARY:Awards Dinner
DESCRIPTION:The beautiful\, 14-story atrium of Fermilab's Wilson Hall will once again serve as the dramatic backdrop for the Chamber's signature event - the Annual Awards Dinner. Please plan to attend this gala\, black-tie optional event during which we will honor the 2008 Citizens of the Year\, Richard and Joanne Hansen\, and announce the winners of the Ole Awards. The evening features the high school Chamber Orchestra and includes dancing and a wonderful silent auction.Sponsored by:     Alden of Waterford\n     Batavia Enterprises\, Inc.\n     Collins Construction Group\n     Delnor Hospital\n     State Representative Mike Fortner\n     Illinois Business Systems\, Inc.\n     Righeimer & Tassi\, P.C.\n     Volkman Insurance Agency
X-ALT-DESC;FMTTYPE=text/html:<P align=left><FONT face="Times New Roman" color=#0000ff size=5>The beautiful\, 14-story atrium of Fermilab's Wilson Hall will once again serve as the dramatic backdrop for the Chamber's signature event - the Annual Awards Dinner. Please plan to attend this gala\, black-tie optional event during which we will honor the 2008 Citizens of the Year\, <FONT color=#ff0000>Richard and Joanne Hanse</FONT><FONT color=#ff0000>n</FONT>\,&nbsp\;and announce the winners of the Ole Awards. The evening features the high school Chamber Orchestra and includes dancing and a wonderful silent auction.</FONT></P><P align=left><FONT color=#ff0000 size=5>Sponsored by:</FONT></P><P align=left><FONT color=#000080 size=5>&nbsp\;&nbsp\;&nbsp\;&nbsp\; Alden of Waterford<BR>&nbsp\;&nbsp\;&nbsp\;&nbsp\; </FONT><FONT color=#000080 size=5>Batavia Enterprises\, Inc.<BR>&nbsp\;&nbsp\;&nbsp\;&nbsp\; Collins Construction Group<BR>&nbsp\;&nbsp\;&nbsp\;&nbsp\; Delnor Hospital</FONT><FONT color=#000080 size=5><BR>&nbsp\;&nbsp\;&nbsp\;&nbsp\; State Representative Mike Fortner<BR>&nbsp\;&nbsp\;&nbsp\;&nbsp\; </FONT><FONT color=#000080 size=5>Illinois Business Systems\, Inc.<BR>&nbsp\;&nbsp\;&nbsp\;&nbsp\; Righeimer &amp\; Tassi\, P.C.<BR>&nbsp\;&nbsp\;&nbsp\;&nbsp\; Volkman Insurance Agency</FONT></P><P align=left><FONT color=#800000>&nbsp\;&nbsp\;&nbsp\;&nbsp\; </FONT></P><DIV>&nbsp\;</DIV>
LOCATION:Fermilab
UID:e.1902.1183
SEQUENCE:3
DTSTAMP:20260421T175820Z
URL:https://business.bataviachamber.org/events/details/awards-dinner-01-31-2009-1183
END:VEVENT

END:VCALENDAR
