BEGIN:VCALENDAR
VERSION:2.0
PRODID:-//ChamberMaster//Event Calendar 2.0//EN
METHOD:PUBLISH
X-PUBLISHED-TTL:P3D
REFRESH-INTERVAL:P3D
CALSCALE:GREGORIAN
BEGIN:VEVENT
DTSTART:20170208T000000Z
DTEND:20170208T013000Z
X-MICROSOFT-CDO-ALLDAYEVENT:FALSE
SUMMARY:Aurora University Business Programs Open House
DESCRIPTION:Advance your career with a business degree from Aurora University. Bachelor-Completer Programs:   Bachelors in Business Administration   Bachelors in Leadership Studies   Bachelors in Accounting Graduate Programs:   Master of Science in Accountancy   Master of Business Administration   MBA with a Concentration in Leadership   MBA with a Concentration in Data Analytics   MBA with a Concentration in Healthcare Management   MBA with a Concentration in Community & Economic Development   MBA with a Concentration in Nonprofit Management   MBA Concentration in Public Safety Management
X-ALT-DESC;FMTTYPE=text/html:Advance your career with a business degree from Aurora University. Bachelor-Completer Programs: &bull\; Bachelors in Business Administration &bull\; Bachelors in Leadership Studies &bull\; Bachelors in Accounting Graduate Programs: &bull\; Master of Science in Accountancy &bull\; Master of Business Administration &bull\; MBA with a Concentration in Leadership &bull\; MBA with a Concentration in Data Analytics &bull\; MBA with a Concentration in Healthcare Management &bull\; MBA with a Concentration in Community &amp\; Economic Development &bull\; MBA with a Concentration in Nonprofit Management &bull\; MBA Concentration in Public Safety Management
LOCATION:Aurora University\, Perry Theatre\, 349 S. Gladstone Ave.\, Aurora\, IL 60506
UID:e.1902.6541
SEQUENCE:3
DTSTAMP:20260425T151400Z
URL:https://business.bataviachamber.org/events/details/aurora-university-business-programs-open-house-6541
END:VEVENT

END:VCALENDAR
