BEGIN:VCALENDAR
VERSION:2.0
PRODID:-//ChamberMaster//Event Calendar 2.0//EN
METHOD:PUBLISH
X-PUBLISHED-TTL:P3D
REFRESH-INTERVAL:P3D
CALSCALE:GREGORIAN
BEGIN:VEVENT
DTSTART:20090719T050000Z
DTEND:20090719T050000Z
X-MICROSOFT-CDO-ALLDAYEVENT:FALSE
SUMMARY:Auditions: ''Thumbs''
DESCRIPTION:This often hilarious murder mystery is set in Vermont where a serial killer is on the loose. The killer’s calling card: the victims are left without thumbs. In a remote mountain cabin another dead body turns up. Has “Tom Thumb” struck again? Or is there another murderer afoot?The cast consistsof 3 men (ages 25-50) and 2 women (ages 40-50).Marta: A television actress searching for furtherfame. Freddie: The ex-husband of Marta. Todd: Marta’s tennis instructor and “close friend.”Wilton: The loveable but witless deputy.Jane Morton: The nice but no-nonsense sheriff. Auditions will consist of cold readings from the script.Performance dates are Sept. 11\, 12\, 13\, 18\, 19\, 20\, 25 & 26.
X-ALT-DESC;FMTTYPE=text/html:<P align=left>This often hilarious murder mystery is set in Vermont where a serial killer is on the loose. The killer’s calling card: the victims are left without thumbs. In a remote mountain cabin another dead body turns up. Has “Tom Thumb” struck again? Or is there another murderer afoot?The cast consistsof 3 men (ages 25-50) and 2 women (ages 40-50).Marta: A television actress searching for furtherfame. Freddie: The ex-husband of Marta. Todd: Marta’s tennis instructor and “close friend.”Wilton: The loveable but witless deputy.Jane Morton: The nice but no-nonsense sheriff. Auditions will consist of cold readings from the script.Performance dates are Sept. 11\, 12\, 13\, 18\, 19\, 20\, 25 &amp\; 26.</P>
LOCATION:Albright Theatre Company
UID:e.1902.976
SEQUENCE:3
DTSTAMP:20260421T070627Z
URL:https://business.bataviachamber.org/events/details/auditions-thumbs-07-19-2009-976
END:VEVENT

END:VCALENDAR
