BEGIN:VCALENDAR
VERSION:2.0
PRODID:-//ChamberMaster//Event Calendar 2.0//EN
METHOD:PUBLISH
X-PUBLISHED-TTL:P3D
REFRESH-INTERVAL:P3D
CALSCALE:GREGORIAN
BEGIN:VEVENT
DTSTART:20081115T190000Z
DTEND:20081115T230000Z
X-MICROSOFT-CDO-ALLDAYEVENT:FALSE
SUMMARY:Artist Gina Freehill at Abby's Hallmark
DESCRIPTION:Artist\, Gina Freehill\, from Bartlett\, Illinois will be signing her line of Peace By Piece angels at Abby's Hallmark Shop.  Peace by Piece is inspired by life's subtle reassurances that extend to you a warm embrace of peacefulness.  Each design as a whole is composed of pieces that unite as one\, just like the pieces of our lives that fit together.  The collection is adorned with various symbols that represent peace\, echanced by beautiful textures and a rich color palatte.  Please stop by and visit with Gina!
X-ALT-DESC;FMTTYPE=text/html:<DIV style="FONT-FAMILY: Arial"><DIV align=left><FONT color=#0000ff size=4>Artist\, Gina Freehill\, from Bartlett\, Illinois will be signing her line of <EM>Peace By Piece</EM> angels at Abby's Hallmark Shop.&nbsp\;</FONT></DIV><DIV align=left><FONT color=#0000ff size=4></FONT>&nbsp\;</DIV><DIV align=left><FONT color=#0000ff size=4><EM>Peace by Piece</EM> is inspired by life's subtle reassurances that extend to you a warm embrace of peacefulness.&nbsp\; Each design as a whole is composed of pieces that unite as one\, just like the pieces of our lives that fit together.&nbsp\; The collection is adorned with various symbols that represent peace\, echanced by beautiful textures and a rich color palatte.&nbsp\; Please stop by and visit with Gina!</FONT></DIV><DIV><FONT color=#0000ff size=4></FONT>&nbsp\;</DIV></DIV>
LOCATION:Abby's Hallmark
UID:e.1902.1607
SEQUENCE:3
DTSTAMP:20260421T211804Z
URL:https://business.bataviachamber.org/events/details/artist-gina-freehill-at-abby-s-hallmark-11-15-2008-1607
END:VEVENT

END:VCALENDAR
