BEGIN:VCALENDAR
VERSION:2.0
PRODID:-//ChamberMaster//Event Calendar 2.0//EN
METHOD:PUBLISH
X-PUBLISHED-TTL:P3D
REFRESH-INTERVAL:P3D
CALSCALE:GREGORIAN
BEGIN:VEVENT
DTSTART;VALUE=DATE:20080809
DTEND;VALUE=DATE:20080811
TRANSP:TRANSPARENT
X-MICROSOFT-CDO-ALLDAYEVENT:TRUE
SUMMARY:''Art In Your Eye'' Fine Art Show & Festival
DESCRIPTION:Come to the Batavia Riverwalk August 9 & 10 for the juried art show featuring gallery-quality fine art from award-winning artists. Go to artinyoureye.com for more information.
X-ALT-DESC;FMTTYPE=text/html:Come to the Batavia Riverwalk August 9 &amp\; 10 for the juried art show featuring gallery-quality fine art from award-winning artists. Go to artinyoureye.com for more information.
LOCATION:Batavia's Beautiful Riverwalk
UID:e.1902.1170
SEQUENCE:3
DTSTAMP:20260422T023900Z
URL:https://business.bataviachamber.org/events/details/art-in-your-eye-fine-art-show-festival-08-09-2008-1170
END:VEVENT

END:VCALENDAR
