BEGIN:VCALENDAR
VERSION:2.0
PRODID:-//ChamberMaster//Event Calendar 2.0//EN
METHOD:PUBLISH
X-PUBLISHED-TTL:P3D
REFRESH-INTERVAL:P3D
CALSCALE:GREGORIAN
BEGIN:VEVENT
DTSTART:20110813T050000Z
DTEND:20110814T050000Z
X-MICROSOFT-CDO-ALLDAYEVENT:FALSE
SUMMARY:Art in Your Eye Fine Art Festival
DESCRIPTION:The Outdoor Fine Art Show featuring over 70 \naward-winning artists from around the country\nin a variety of media\n\nThe City Hall Art Exhibit\, a juried exhibit \nfeaturing the work of localartists\nIndoors\, Council Chambers\n\nExceptional Children's Art Activities\nChildren's Art Tent\, East of the Peg Bond Center\n\nContinuous musical entertainment on the \nArt In Your Ear Stage at thePeg Bond Center\n\nThe Student Legacy Project\, an exhibit of the artwork \nof area high school andcollege students\nIndoors\, Council Chambers\n\nArt demonstrations and displays on the Plaza\,\nby artists from Water Street Studios in Batavia\n(see artists' schedule below)\n\nA special art exhibit at the Batavia Depot Museum \non the Riverwalk \n\nGourmet food offered by Batavia's EnticingCuisine
X-ALT-DESC;FMTTYPE=text/html:The Outdoor Fine Art Show featuring over 70 \naward-winning artists from around the country\nin a variety of media\n\nThe City Hall Art Exhibit\, a juried exhibit \nfeaturing the work of localartists\nIndoors\, Council Chambers\n\nExceptional Children's Art Activities\nChildren's Art Tent\, East of the Peg Bond Center\n\nContinuous musical entertainment on the \nArt In Your Ear Stage at thePeg Bond Center\n\nThe Student Legacy Project\, an exhibit of the artwork \nof area high school andcollege students\nIndoors\, Council Chambers\n\nArt demonstrations and displays on the Plaza\,\nby artists from Water Street Studios in Batavia\n(see artists' schedule below)\n\nA special art exhibit at the Batavia Depot Museum \non the Riverwalk \n\nGourmet food offered by Batavia's EnticingCuisine
LOCATION:Batavia Riverwalk
UID:e.1902.223
SEQUENCE:3
DTSTAMP:20260419T121132Z
URL:https://business.bataviachamber.org/events/details/art-in-your-eye-fine-art-festival-08-13-2011-223
END:VEVENT

END:VCALENDAR
