BEGIN:VCALENDAR
VERSION:2.0
PRODID:-//ChamberMaster//Event Calendar 2.0//EN
METHOD:PUBLISH
X-PUBLISHED-TTL:P3D
REFRESH-INTERVAL:P3D
CALSCALE:GREGORIAN
BEGIN:VEVENT
DTSTART:20110708T050000Z
DTEND:20110708T050000Z
X-MICROSOFT-CDO-ALLDAYEVENT:FALSE
SUMMARY:Art By the Glass\, Grand Opening
DESCRIPTION:Join us tonight as we welcome water colorist Lea Placek.  View her exhibit in an evening of Art\, Wine and Music!  Live entertainment with "Random Acts of Jazz" from 6-8 pm\, and in honor of the annualSpanish “Run With the Bulls\, a special Spanish menu will be at the bar on both Friday and Saturday.
X-ALT-DESC;FMTTYPE=text/html:Join us tonight as we welcome water colorist Lea Placek.  View her exhibit in an evening of Art\, Wine and Music!  Live entertainment with "Random Acts of Jazz" from 6-8 pm\, and in honor of the annualSpanish “Run With the Bulls\, a special Spanish menu will be at the bar on both Friday and Saturday.
LOCATION:Gibby's Wine Den
UID:e.1902.292
SEQUENCE:3
DTSTAMP:20260419T132829Z
URL:https://business.bataviachamber.org/events/details/art-by-the-glass-grand-opening-07-08-2011-292
END:VEVENT

END:VCALENDAR
