BEGIN:VCALENDAR
VERSION:2.0
PRODID:-//ChamberMaster//Event Calendar 2.0//EN
METHOD:PUBLISH
X-PUBLISHED-TTL:P3D
REFRESH-INTERVAL:P3D
CALSCALE:GREGORIAN
BEGIN:VEVENT
DTSTART:20100615T220000Z
DTEND:20100616T000000Z
X-MICROSOFT-CDO-ALLDAYEVENT:FALSE
SUMMARY:ArgusBCS Open House & Ribbon Cutting
DESCRIPTION:Join us to see the beautiful new offices of ArgusBCS...and come welcome them to the Batavia Chamber of Commerce! You will truly enjoy seeing how this beautiful building is being revitalized for Downtown Batavia. Join us at 6:00 p.m. as Mayor Jeff Schielke officially welcomes ArgusBCS and their friendly staff to Batavia!
X-ALT-DESC;FMTTYPE=text/html:<P class=MsoNormal style="MARGIN: 0in 0in 0pt\; TEXT-ALIGN: center" align=left>Join us to see the beautiful new offices of ArgusBCS...and come welcome them to the Batavia Chamber of Commerce! You will truly enjoy seeing how this beautiful building is being revitalized for Downtown Batavia.</P><P class=MsoNormal style="MARGIN: 0in 0in 0pt\; TEXT-ALIGN: center" align=left>&nbsp\;</P><P class=MsoNormal style="MARGIN: 0in 0in 0pt\; TEXT-ALIGN: center" align=left>Join us at 6:00 p.m. as Mayor Jeff Schielke&nbsp\;officially welcomes ArgusBCS and their friendly staff to Batavia!</P>
LOCATION:ArgusBCS
UID:e.1902.1737
SEQUENCE:3
DTSTAMP:20260420T123711Z
URL:https://business.bataviachamber.org/events/details/argusbcs-open-house-ribbon-cutting-06-15-2010-1737
END:VEVENT

END:VCALENDAR
