BEGIN:VCALENDAR
VERSION:2.0
PRODID:-//ChamberMaster//Event Calendar 2.0//EN
METHOD:PUBLISH
X-PUBLISHED-TTL:P3D
REFRESH-INTERVAL:P3D
CALSCALE:GREGORIAN
BEGIN:VEVENT
DTSTART:20090425T050000Z
DTEND:20090425T050000Z
X-MICROSOFT-CDO-ALLDAYEVENT:FALSE
SUMMARY:Are Vaccines Safe
DESCRIPTION:Vaccines are under the microscope yet AGAIN! Are you ready to make an EDUCATED DECISION about vaccinating your Child or Yourself? Don't Miss this Informative Seminar. Educate Before You Vaccinate!Ticket prices:  \n$10 advance purchase\n$15 at the doorLimit Seating --- Advance ticket purchase is strongly recommened.
X-ALT-DESC;FMTTYPE=text/html:<P>Vaccines are under the microscope yet AGAIN! Are you ready to make an EDUCATED DECISION about vaccinating your Child or Yourself? Don't Miss this Informative Seminar. Educate Before You Vaccinate!</P><P><STRONG>Ticket prices:</STRONG>&nbsp\; <BR>$10 advance purchase<BR>$15 at the door</P><DIV>Limit Seating --- Advance ticket purchase is strongly recommened.</DIV>
LOCATION:Millcreek Golf Club
UID:e.1902.896
SEQUENCE:3
DTSTAMP:20260421T125258Z
URL:https://business.bataviachamber.org/events/details/are-vaccines-safe-04-25-2009-896
END:VEVENT

END:VCALENDAR
