BEGIN:VCALENDAR
VERSION:2.0
PRODID:-//ChamberMaster//Event Calendar 2.0//EN
METHOD:PUBLISH
X-PUBLISHED-TTL:P3D
REFRESH-INTERVAL:P3D
CALSCALE:GREGORIAN
BEGIN:VEVENT
DTSTART:20101127T060000Z
DTEND:20101127T060000Z
X-MICROSOFT-CDO-ALLDAYEVENT:FALSE
SUMMARY:Annual Wreath and Roping Sale
DESCRIPTION:Decorate your home or businesses with these high-quality\, locally-grown greens\, and help Calvary help local outreach ministries. \nPrices are as follows:\n14" diam. wreath: $24\n20" diam. wreath: $30\n30" diam. wreath: $42\n20' sections of roping: $30\n\nOrder in advance and pick up anytime after November 26\, or shop at the sale. Quantities will be limited\, so order early to avoid disappointment!\n\nSale dates are Thanksgiving weekend and the weekend after:\n\nFriday-Sunday\, November 26-28 andSatruday-Sunday\, December 4-5. Sale times are 9 a.m. to 3 p.m. Fridays and Saturdays and 9 a.m. to 1p.m. Sundays.\n\nFor further information please call Calvary at 630-879-3378.
X-ALT-DESC;FMTTYPE=text/html:Decorate your home or businesses with these high-quality\, locally-grown greens\, and help Calvary help local outreach ministries. \nPrices are as follows:\n14" diam. wreath: $24\n20" diam. wreath: $30\n30" diam. wreath: $42\n20' sections of roping: $30\n\nOrder in advance and pick up anytime after November 26\, or shop at the sale. Quantities will be limited\, so order early to avoid disappointment!\n\nSale dates are Thanksgiving weekend and the weekend after:\n\nFriday-Sunday\, November 26-28 andSatruday-Sunday\, December 4-5. Sale times are 9 a.m. to 3 p.m. Fridays and Saturdays and 9 a.m. to 1p.m. Sundays.\n\nFor further information please call Calvary at 630-879-3378.
LOCATION:Calvary Episcopal Church
UID:e.1902.98
SEQUENCE:3
DTSTAMP:20260420T023954Z
URL:https://business.bataviachamber.org/events/details/annual-wreath-and-roping-sale-11-27-2010-98
END:VEVENT

END:VCALENDAR
