BEGIN:VCALENDAR
VERSION:2.0
PRODID:-//ChamberMaster//Event Calendar 2.0//EN
METHOD:PUBLISH
X-PUBLISHED-TTL:P3D
REFRESH-INTERVAL:P3D
CALSCALE:GREGORIAN
BEGIN:VEVENT
DTSTART:20110225T060000Z
DTEND:20110225T060000Z
X-MICROSOFT-CDO-ALLDAYEVENT:FALSE
SUMMARY:Annual Spaghetti Dinner
DESCRIPTION:We invite you to join us for our annual Spaghetti Dinner on Friday 2/25/2011 from 5pm-7pm.  Don't miss karaoke\, raffles\, door prizes\, and a delicious dinner with your friends\, family\, and community.Everyone is welcome!!  All proceeds will benefit the St. Jude Children's Research Hospital.  $7.00 per plate includes a hot plate of Spaghetti\, side salad\, and garlic toast.  Dine in or carry out.  Please RSVP no later than 2/18/2011.
X-ALT-DESC;FMTTYPE=text/html:We invite you to join us for our annual Spaghetti Dinner on Friday 2/25/2011 from 5pm-7pm.  Don't miss karaoke\, raffles\, door prizes\, and a delicious dinner with your friends\, family\, and community.Everyone is welcome!!  All proceeds will benefit the St. Jude Children's Research Hospital.  $7.00 per plate includes a hot plate of Spaghetti\, side salad\, and garlic toast.  Dine in or carry out.  Please RSVP no later than 2/18/2011.
LOCATION:Batavia Rehabilitation
UID:e.1902.163
SEQUENCE:3
DTSTAMP:20260419T211847Z
URL:https://business.bataviachamber.org/events/details/annual-spaghetti-dinner-02-25-2011-163
END:VEVENT

END:VCALENDAR
