BEGIN:VCALENDAR
VERSION:2.0
PRODID:-//ChamberMaster//Event Calendar 2.0//EN
METHOD:PUBLISH
X-PUBLISHED-TTL:P3D
REFRESH-INTERVAL:P3D
CALSCALE:GREGORIAN
BEGIN:VEVENT
DTSTART:20110507T050000Z
DTEND:20110507T050000Z
X-MICROSOFT-CDO-ALLDAYEVENT:FALSE
SUMMARY:Annual Plant Sale
DESCRIPTION:Just in time for Mother's Day!\nCalvary's Lay Weeders host their annual plant sale from 9 a.m. to 1p.m.\, offering both perennials and annuals. Proceeds will benefit a variety of programs of the parish.\nRAIN OR SHINE!
X-ALT-DESC;FMTTYPE=text/html:Just in time for Mother's Day!\nCalvary's Lay Weeders host their annual plant sale from 9 a.m. to 1p.m.\, offering both perennials and annuals. Proceeds will benefit a variety of programs of the parish.\nRAIN OR SHINE!
LOCATION:Calvary Episcopal Church
UID:e.1902.241
SEQUENCE:3
DTSTAMP:20260419T164248Z
URL:https://business.bataviachamber.org/events/details/annual-plant-sale-05-07-2011-241
END:VEVENT

END:VCALENDAR
