BEGIN:VCALENDAR
VERSION:2.0
PRODID:-//ChamberMaster//Event Calendar 2.0//EN
METHOD:PUBLISH
X-PUBLISHED-TTL:P3D
REFRESH-INTERVAL:P3D
CALSCALE:GREGORIAN
BEGIN:VEVENT
DTSTART:20090502T050000Z
DTEND:20090502T050000Z
X-MICROSOFT-CDO-ALLDAYEVENT:FALSE
SUMMARY:Annual Plant and Yard Sale & Indoor Spring Bazaar/Vendor Sho
DESCRIPTION:Beat the city-wide crowd and come to Calvary's all-day shopping event on Saturday\, May 2! RAIN OR SHINE! In addition to our annual plant and yard sale\, this year enjoy a variety of specials at our indoor spring bazaar and vendor show.  Admission is free\, and all proceeds benefit the outreach ministries of Calvary\, including many local agencies and programs.
X-ALT-DESC;FMTTYPE=text/html:Beat the city-wide crowd and come to Calvary's all-day shopping event on Saturday\, May 2! RAIN OR SHINE! In addition to our annual plant and yard sale\, this year enjoy a variety of specials at our indoor spring bazaar and vendor show.  Admission is free\, and all proceeds benefit the outreach ministries of Calvary\, including many local agencies and programs.
LOCATION:Calvary Episcopal Church
UID:e.1902.922
SEQUENCE:3
DTSTAMP:20260421T105532Z
URL:https://business.bataviachamber.org/events/details/annual-plant-and-yard-sale-indoor-spring-bazaar-vendor-sho-05-02-2009-922
END:VEVENT

END:VCALENDAR
