BEGIN:VCALENDAR
VERSION:2.0
PRODID:-//ChamberMaster//Event Calendar 2.0//EN
METHOD:PUBLISH
X-PUBLISHED-TTL:P3D
REFRESH-INTERVAL:P3D
CALSCALE:GREGORIAN
BEGIN:VEVENT
DTSTART:20100508T050000Z
DTEND:20100508T050000Z
X-MICROSOFT-CDO-ALLDAYEVENT:FALSE
SUMMARY:Annual Perennial Plant Sale
DESCRIPTION:Perennial Plant Sale
X-ALT-DESC;FMTTYPE=text/html:Perennial Plant Sale
LOCATION:Bethany Lutheran Church
UID:e.1902.1152
SEQUENCE:3
DTSTAMP:20260420T131118Z
URL:https://business.bataviachamber.org/events/details/annual-perennial-plant-sale-05-08-2010-1152
END:VEVENT

END:VCALENDAR
