BEGIN:VCALENDAR
VERSION:2.0
PRODID:-//ChamberMaster//Event Calendar 2.0//EN
METHOD:PUBLISH
X-PUBLISHED-TTL:P3D
REFRESH-INTERVAL:P3D
CALSCALE:GREGORIAN
BEGIN:VEVENT
DTSTART:20251130T140000Z
DTEND:20251130T180000Z
X-MICROSOFT-CDO-ALLDAYEVENT:FALSE
SUMMARY:Annual Pancake Breakfast & Picture with Santa
DESCRIPTION:Pancake Breakfast Fundraiser\n\nand Picture with Santa\n\nAs a special bonus Santa will be on hand for pictures with your children.\n\nSanta will be on hand from 8am till Noon.\n\nThere is no charge for the Picture but a free will donation would be greatly appreciated.
X-ALT-DESC;FMTTYPE=text/html:<div style="text-align:center">\n<h1><span style="font-size:12px"><span style="font-size:16px"><strong>Pancake Breakfast Fundraiser<br />\nand&nbsp\;Picture with Santa</strong></span></span></h1>\n\n<div style="text-align:center">As a special bonus Santa will be on hand for pictures with your children.<br />\nSanta will be on hand from 8am till Noon.<br />\nThere is no charge for the Picture but a free will donation would be greatly appreciated.</div>\n</div>\n
LOCATION:Batavia Masonic Temple 28 N Van Nortwick Ave (corner of Houston St & Van Nortwick Ave) Search "Batavia Masonic Lodge" on Maps or Google Maps
UID:e.1902.30361
SEQUENCE:3
DTSTAMP:20260425T031912Z
URL:https://business.bataviachamber.org/events/details/annual-pancake-breakfast-picture-with-santa-30361
END:VEVENT

END:VCALENDAR
