BEGIN:VCALENDAR
VERSION:2.0
PRODID:-//ChamberMaster//Event Calendar 2.0//EN
METHOD:PUBLISH
X-PUBLISHED-TTL:P3D
REFRESH-INTERVAL:P3D
CALSCALE:GREGORIAN
BEGIN:VEVENT
DTSTART:20100912T050000Z
DTEND:20100912T050000Z
X-MICROSOFT-CDO-ALLDAYEVENT:FALSE
SUMMARY:Annual Outdoor Worship and Church Picnic
DESCRIPTION:Calvary Episcopal Church invites the public to its annual Outdoor Worship and Church Picnic on Sunday\, September 12\, at Les Arends Forest Preserve. The day begins with worship at 10:15 a.m.\, with thepicnic immediately following.\n	Les Arends is on Route 31\, north of Mooseheart road and just south of the Batavia city limits. Calvary will provide grilled meats and beverages\; guests are asked to bring a dish to pass.\n	Due to the event\, there will be no services at Calvary on the 12th.  The parishresumes its regular fall worship schedule on Sunday\, September 19\, with services at 8:00 and 10:15a.m. Calvary is located at 222 S. Batavia Avenue\, at the corner of Route 31 and Main Street. For further information please call Calvary at 630-879-3378 or visit its web site\, www.calvary-episcopal.org.
X-ALT-DESC;FMTTYPE=text/html:Calvary Episcopal Church invites the public to its annual Outdoor Worship and Church Picnic on Sunday\, September 12\, at Les Arends Forest Preserve. The day begins with worship at 10:15 a.m.\, with thepicnic immediately following.\n	Les Arends is on Route 31\, north of Mooseheart road and just south of the Batavia city limits. Calvary will provide grilled meats and beverages\; guests are asked to bring a dish to pass.\n	Due to the event\, there will be no services at Calvary on the 12th.  The parishresumes its regular fall worship schedule on Sunday\, September 19\, with services at 8:00 and 10:15a.m. Calvary is located at 222 S. Batavia Avenue\, at the corner of Route 31 and Main Street. For further information please call Calvary at 630-879-3378 or visit its web site\, www.calvary-episcopal.org.\n
LOCATION:Les Arends Forest Preserve
UID:e.1902.29
SEQUENCE:3
DTSTAMP:20260420T061237Z
URL:https://business.bataviachamber.org/events/details/annual-outdoor-worship-and-church-picnic-09-12-2010-29
END:VEVENT

END:VCALENDAR
