BEGIN:VCALENDAR
VERSION:2.0
PRODID:-//ChamberMaster//Event Calendar 2.0//EN
METHOD:PUBLISH
X-PUBLISHED-TTL:P3D
REFRESH-INTERVAL:P3D
CALSCALE:GREGORIAN
BEGIN:VEVENT
DTSTART:20090913T050000Z
DTEND:20090913T050000Z
X-MICROSOFT-CDO-ALLDAYEVENT:FALSE
SUMMARY:Annual Church Picnic and Outdoor Worship
DESCRIPTION:Join Calvary for an annual tradition - our Outdoor Worship Service and Church Picnic!  Main course provided\; please bring a dish to pass. Fun for the whole family! All are welcome!
X-ALT-DESC;FMTTYPE=text/html:Join Calvary for an annual tradition - our Outdoor Worship Service and Church Picnic!  Main course provided\; please bring a dish to pass. Fun for the whole family! All are welcome!
LOCATION:Fabyan Forest Preserve - The Bear Cage
UID:e.1902.987
SEQUENCE:3
DTSTAMP:20260421T032206Z
URL:https://business.bataviachamber.org/events/details/annual-church-picnic-and-outdoor-worship-09-13-2009-987
END:VEVENT

END:VCALENDAR
