BEGIN:VCALENDAR
VERSION:2.0
PRODID:-//ChamberMaster//Event Calendar 2.0//EN
METHOD:PUBLISH
X-PUBLISHED-TTL:P3D
REFRESH-INTERVAL:P3D
CALSCALE:GREGORIAN
BEGIN:VEVENT
DTSTART:20090712T050000Z
DTEND:20090712T050000Z
X-MICROSOFT-CDO-ALLDAYEVENT:FALSE
SUMMARY:Annual Block Party
DESCRIPTION:We will be holding our Annual Block Party. Come enjoy the afternoon with us.  We will have food\, games\, music as well as balloon animals and facepainting for the kids.
X-ALT-DESC;FMTTYPE=text/html:We will be holding our Annual Block Party. Come enjoy the afternoon with us.  We will have food\, games\, music as well as balloon animals and facepainting for the kids.
LOCATION:New Beginnings Fellowship
UID:e.1902.973
SEQUENCE:3
DTSTAMP:20260421T070646Z
URL:https://business.bataviachamber.org/events/details/annual-block-party-07-12-2009-973
END:VEVENT

END:VCALENDAR
