BEGIN:VCALENDAR
VERSION:2.0
PRODID:-//ChamberMaster//Event Calendar 2.0//EN
METHOD:PUBLISH
X-PUBLISHED-TTL:P3D
REFRESH-INTERVAL:P3D
CALSCALE:GREGORIAN
BEGIN:VEVENT
DTSTART:20091004T050000Z
DTEND:20091004T050000Z
X-MICROSOFT-CDO-ALLDAYEVENT:FALSE
SUMMARY:Annual Blessing of the Pets
DESCRIPTION:All pets (and their people!) are invited to Calvary Episcopal Church on Sunday\, October 4\, for the Annual Blessing of the Pets.  In the tradition of St. Francis of Assisi\, Father Mike Rasicci\, rectorof Calvary\, will bless all pets at 12 noon on Calvary's front lawn.
X-ALT-DESC;FMTTYPE=text/html:All pets (and their people!) are invited to Calvary Episcopal Church on Sunday\, October 4\, for the Annual Blessing of the Pets.  In the tradition of St. Francis of Assisi\, Father Mike Rasicci\, rectorof Calvary\, will bless all pets at 12 noon on Calvary's front lawn.
LOCATION:Calvary Episcopal Church
UID:e.1902.1039
SEQUENCE:3
DTSTAMP:20260421T030019Z
URL:https://business.bataviachamber.org/events/details/annual-blessing-of-the-pets-10-04-2009-1039
END:VEVENT

END:VCALENDAR
