BEGIN:VCALENDAR
VERSION:2.0
PRODID:-//ChamberMaster//Event Calendar 2.0//EN
METHOD:PUBLISH
X-PUBLISHED-TTL:P3D
REFRESH-INTERVAL:P3D
CALSCALE:GREGORIAN
BEGIN:VEVENT
DTSTART:20100821T050000Z
DTEND:20100821T050000Z
X-MICROSOFT-CDO-ALLDAYEVENT:FALSE
SUMMARY:Annual Barbeque Porkchop & Chicken Dinner
DESCRIPTION:Dinner includes baked beans\, coleslaw\, roll\, butter applesauce\, coffee or lemonade. YUM! For information call 630-761-9750
X-ALT-DESC;FMTTYPE=text/html:Dinner includes baked beans\, coleslaw\, roll\, butter applesauce\, coffee or lemonade. YUM! For information call 630-761-9750
LOCATION:Bethany Ministry Center
UID:e.1902.10
SEQUENCE:3
DTSTAMP:20260420T074157Z
URL:https://business.bataviachamber.org/events/details/annual-barbeque-porkchop-chicken-dinner-08-21-2010-10
END:VEVENT

END:VCALENDAR
