BEGIN:VCALENDAR
VERSION:2.0
PRODID:-//ChamberMaster//Event Calendar 2.0//EN
METHOD:PUBLISH
X-PUBLISHED-TTL:P3D
REFRESH-INTERVAL:P3D
CALSCALE:GREGORIAN
BEGIN:VEVENT
DTSTART:20200510T170000Z
DTEND:20200510T190000Z
X-MICROSOFT-CDO-ALLDAYEVENT:FALSE
SUMMARY:Animal Babies Baby Shower at Anderson Animal Shelter and Fox Valley Wildlife Center
DESCRIPTION:"Baby season" is in full swing! Anderson and their partners at the Fox Valley Wildlife Center\, with whom they recently merged\, are hosting a Baby Shower at both locations for their new arrivals. On Mother's Day\, Sunday\, May 10th\, they invite people to bring donations of items or cash to help support the animals\, receive a special party favor and have an opportunity to view some of the babies in the shelters' care\, all while practicing safe social distance protocols.
X-ALT-DESC;FMTTYPE=text/html:<p><span style="font-family:arial\; font-size:11pt">&ldquo\;Baby season&rdquo\; is in full swing! Anderson and their partners at the Fox Valley Wildlife Center\, with whom they recently merged\, are hosting a Baby Shower at both locations for their new arrivals. On Mother&rsquo\;s Day\, Sunday\, May 10th\, they invite people to bring donations of items or cash to help support the animals\, receive a special party favor and have an opportunity to view some of the babies in the shelters&rsquo\; care\, all while practicing safe social distance protocols.</span></p>\n\n<div>&nbsp\;</div>\n
LOCATION:Anderson Animal Shelter 1000 S. LaFox St. South Elgin\, IL and Fox Valley Wildlife Center 45W061 IL-38 Elburn\, IL
UID:e.1902.12152
SEQUENCE:3
DTSTAMP:20260422T200652Z
URL:https://business.bataviachamber.org/events/details/animal-babies-baby-shower-at-anderson-animal-shelter-and-fox-valley-wildlife-center-12152
END:VEVENT

END:VCALENDAR
