BEGIN:VCALENDAR
VERSION:2.0
PRODID:-//ChamberMaster//Event Calendar 2.0//EN
METHOD:PUBLISH
X-PUBLISHED-TTL:P3D
REFRESH-INTERVAL:P3D
CALSCALE:GREGORIAN
BEGIN:VEVENT
DTSTART:20190623T150000Z
DTEND:20190623T210000Z
X-MICROSOFT-CDO-ALLDAYEVENT:FALSE
SUMMARY:Anderson Animal Shelter's Ride 4 Animals
DESCRIPTION:Anderson's Ride 4 Animals is a fun-filled day in the great outdoors touring the back roads of northern Illinois. Featuring stops at iconic locations with the opportunity to get your "puppy fix." The ride features a poker run format with 5 stops: Pets Supplies Plus\, North Aurora\, Schmidt's Towne Tap\, Elburn\, Reyes Bar & Grille\, Sycamore\, Barbed Wire Harley-Davidson\, DeKalb\, and Gifford's Kitchen\, Elgin. Each stop will feature a poker card draw\, a photo-op and snuggle time with a group of adoptable puppies and other species\, food and beverages\, and other incentives. The Ride 4 Animals After-Pawty will be hosted at Gifford's Kitchen and will feature music\, great food\, prizes\, silent auction\, raffles\, and more.
X-ALT-DESC;FMTTYPE=text/html:<span style="font-family:arial\,sans-serif"><span style="font-size:12.0pt">Anderson&rsquo\;s Ride 4 Animals is a fun-filled day in the great outdoors touring the back roads of northern Illinois. Featuring stops at iconic locations with the opportunity to get your &ldquo\;puppy fix.&rdquo\; The ride features a poker run format with 5 stops: Pets Supplies Plus\, North Aurora\, Schmidt&rsquo\;s Towne Tap\, Elburn\, Reyes Bar &amp\; Grille\, Sycamore\, Barbed Wire Harley-Davidson\, DeKalb\, and Gifford&rsquo\;s Kitchen\, Elgin. Each stop will feature a poker card draw\, a photo-op and snuggle time with a group of adoptable puppies and other species\, food and beverages\, and other incentives. The Ride 4 Animals After-Pawty will be hosted at Gifford&rsquo\;s Kitchen and will feature music\, great food\, prizes\, silent auction\, raffles\, and more.</span></span>
LOCATION:Kicks off from Pet Supplies Plus in North Aurora 180 N Randall Rd\, North Aurora\, IL
UID:e.1902.10201
SEQUENCE:3
DTSTAMP:20260423T151011Z
URL:https://business.bataviachamber.org/events/details/anderson-animal-shelter-s-ride-4-animals-10201
END:VEVENT

END:VCALENDAR
