BEGIN:VCALENDAR
VERSION:2.0
PRODID:-//ChamberMaster//Event Calendar 2.0//EN
METHOD:PUBLISH
X-PUBLISHED-TTL:P3D
REFRESH-INTERVAL:P3D
CALSCALE:GREGORIAN
BEGIN:VEVENT
DTSTART:20100213T060000Z
DTEND:20100213T060000Z
X-MICROSOFT-CDO-ALLDAYEVENT:FALSE
SUMMARY:An Evening with Ian Coulter
DESCRIPTION:Entertainer Ian Coulter comes to Fox's on the River with Irish humor\, storytelling and\, of course\, bagpipes.  No cover charge.
X-ALT-DESC;FMTTYPE=text/html:Entertainer Ian Coulter comes to Fox's on the River with Irish humor\, storytelling and\, of course\, bagpipes.  No cover charge.
LOCATION:Fox's on the River
UID:e.1902.1123
SEQUENCE:3
DTSTAMP:20260420T175445Z
URL:https://business.bataviachamber.org/events/details/an-evening-with-ian-coulter-02-13-2010-1123
END:VEVENT

END:VCALENDAR
