BEGIN:VCALENDAR
VERSION:2.0
PRODID:-//ChamberMaster//Event Calendar 2.0//EN
METHOD:PUBLISH
X-PUBLISHED-TTL:P3D
REFRESH-INTERVAL:P3D
CALSCALE:GREGORIAN
BEGIN:VEVENT
DTSTART:20170520T003000Z
DTEND:20170521T230000Z
X-MICROSOFT-CDO-ALLDAYEVENT:FALSE
SUMMARY:An Evening at the Opera!
DESCRIPTION:(St. Charles) Vero Voce Theater presents "An Evening at the Opera!" two One-Act Comedic operas sung in English: Act I - Mozart's The Impressario Act II - The Old Maid and the Thief\, by Gian Carlo Menotti. Performances are Friday & Saturday\, May 19 & 20 @ 7:30pm and Sunday May 21 @ 6pm. at the Vero Voce Theater\, located at 951 State Avenue\, Suite F\, St Charles IL 60174 Vero Voce will open the evening with Mozart's The Impresario\, sung in English\, a comedic parody on the vanity of two prima donnas\, who argue over status and pay. Mozart himself called this work a comedy with music. The work will feature Lauren Freas (St Charles) as Madame Goldentrill\, an aging opera star\; Abageal Phelan (Geneva) as Miss Silverpeal\, an aspirant opera star\; Dan Keller (Aurora) as Mr. Angel\, an elderly stage-struck financier\; Liam McCarron (St Charles) as Mr. Bluff\, the Impresario's assistant\; and Dennis Brown (St Charles) as Mr. Scruples\, the old school Impresario. The Old Maid and the Thief is a radio opera in one act by Italian-American composer Gian Carlo Menotti. The work uses an English language libretto by the composer which tells a twisted tale of morals and evil womanly power. Menotti writes in the libretto "The devil couldn't do what a woman can- Make a thief out of an honest man." Both operas will be staged as radio shows to make up an evening of operatic entertainment for a live audience in a radio show setting. Directed by Dennis Brown (Vero Voce co-owner)\, the cast of professional singer/actors includes Marie Groh (Plainfield) as Miss Todd\, Dawn Harkins (St Charles) as Letitia\, Catherine Lord (St Charles) as Miss Pinkerton\, Keith Brown (Interlochen\, MI) as Bob\, with pianist Richard Trost. Performer biographies are listed at www.verovoce.com/live-theatre/casting. Tickets are $28 Adult\, $25 Senior (65+)\, $23 Student (with valid student ID) and may be purchased online at www.verovoce.com or by calling (630) 584-0139. Seating is limited. Advanced ticket purchase is recommended. More information about the many offerings at Vero Voce can be obtained by visiting the website: verovoce.com\, or calling (630) 584-0139.
X-ALT-DESC;FMTTYPE=text/html:(St. Charles) Vero Voce Theater presents &ldquo\;An Evening at the Opera!&rdquo\; two One-Act Comedic operas sung in English: Act I - Mozart&rsquo\;s The Impressario Act II - The Old Maid and the Thief\, by Gian Carlo Menotti. Performances are Friday &amp\; Saturday\, May 19 &amp\; 20 @ 7:30pm and Sunday May 21 @ 6pm. at the Vero Voce Theater\, located at 951 State Avenue\, Suite F\, St Charles IL 60174 Vero Voce will open the evening with Mozart&rsquo\;s The Impresario\, sung in English\, a comedic parody on the vanity of two prima donnas\, who argue over status and pay. Mozart himself called this work a comedy with music. The work will feature Lauren Freas (St Charles) as Madame Goldentrill\, an aging opera star\; Abageal Phelan (Geneva) as Miss Silverpeal\, an aspirant opera star\; Dan Keller (Aurora) as Mr. Angel\, an elderly stage-struck financier\; Liam McCarron (St Charles) as Mr. Bluff\, the Impresario&rsquo\;s assistant\; and Dennis Brown (St Charles) as Mr. Scruples\, the old school Impresario. The Old Maid and the Thief is a radio opera in one act by Italian-American composer Gian Carlo Menotti. The work uses an English language libretto by the composer which tells a twisted tale of morals and evil womanly power. Menotti writes in the libretto &quot\;The devil couldn&#39\;t do what a woman can- Make a thief out of an honest man.&quot\; Both operas will be staged as radio shows to make up an evening of operatic entertainment for a live audience in a radio show setting. Directed by Dennis Brown (Vero Voce co-owner)\, the cast of professional singer/actors includes Marie Groh (Plainfield) as Miss Todd\, Dawn Harkins (St Charles) as Letitia\, Catherine Lord (St Charles) as Miss Pinkerton\, Keith Brown (Interlochen\, MI) as Bob\, with pianist Richard Trost. Performer biographies are listed at www.verovoce.com/live-theatre/casting. Tickets are $28 Adult\, $25 Senior (65+)\, $23 Student (with valid student ID) and may be purchased online at www.verovoce.com or by calling <a href="tel:(630) 584-0139">(630) 584-0139</a>. Seating is limited. Advanced ticket purchase is recommended. More information about the many offerings at Vero Voce can be obtained by visiting the website: verovoce.com\, or calling <a href="tel:(630) 584-0139">(630) 584-0139</a>.
LOCATION:Vero Voce Theater 951 State Avenue\, Ste F St Charles\, IL 60174
UID:e.1902.6622
SEQUENCE:3
DTSTAMP:20260425T113113Z
URL:https://business.bataviachamber.org/events/details/an-evening-at-the-opera-6622
END:VEVENT

END:VCALENDAR
