BEGIN:VCALENDAR
VERSION:2.0
PRODID:-//ChamberMaster//Event Calendar 2.0//EN
METHOD:PUBLISH
X-PUBLISHED-TTL:P3D
REFRESH-INTERVAL:P3D
CALSCALE:GREGORIAN
BEGIN:VEVENT
DTSTART:20090918T160000Z
DTEND:20090918T170000Z
X-MICROSOFT-CDO-ALLDAYEVENT:FALSE
SUMMARY:American Family Insurance Ribbon Cutting
DESCRIPTION:Join the festivities as we welcome the Joe Kosner Agency of American Family Insurance to Batavia. Joe and his friendly staff are moving to Batavia from North Aurora--Sorry North Aurora! Mayor Schielke will cut their ribbon at 11:00 a.m.
X-ALT-DESC;FMTTYPE=text/html:<P align=left>Join the festivities as we welcome the Joe Kosner Agency of American Family Insurance to Batavia. Joe and his friendly staff are moving to Batavia from North Aurora--Sorry North Aurora! Mayor Schielke will cut their ribbon at 11:00 a.m.</P>
LOCATION:American Family Insurance
UID:e.1902.1730
SEQUENCE:3
DTSTAMP:20260421T031922Z
URL:https://business.bataviachamber.org/events/details/american-family-insurance-ribbon-cutting-09-18-2009-1730
END:VEVENT

END:VCALENDAR
