BEGIN:VCALENDAR
VERSION:2.0
PRODID:-//ChamberMaster//Event Calendar 2.0//EN
METHOD:PUBLISH
X-PUBLISHED-TTL:P3D
REFRESH-INTERVAL:P3D
CALSCALE:GREGORIAN
BEGIN:VEVENT
DTSTART:20100707T220000Z
DTEND:20100708T000000Z
X-MICROSOFT-CDO-ALLDAYEVENT:FALSE
SUMMARY:Always Best Care Ribbon Cutting
DESCRIPTION:Always Best Care of Kane County is one f the Chamber's newest members and they will be celebrating their new business - home care for seniors - on July 7. They are inviting the community to come to the beautiful Towne Center at The Holmstad retirement community. Join us for the ribbon cutting at 5:30.
X-ALT-DESC;FMTTYPE=text/html:<P class=MsoNormal style="MARGIN: 0in 0in 0pt\; TEXT-ALIGN: center" align=left>Always Best Care of Kane County is one f the Chamber's newest members and they will be celebrating their new business - home care for seniors - on July 7. They are inviting the community to come to the beautiful Towne Center at The Holmstad retirement community. Join us for the ribbon cutting at 5:30.</P>
LOCATION:The Holmstad
UID:e.1902.1738
SEQUENCE:3
DTSTAMP:20260420T093543Z
URL:https://business.bataviachamber.org/events/details/always-best-care-ribbon-cutting-07-07-2010-1738
END:VEVENT

END:VCALENDAR
