BEGIN:VCALENDAR
VERSION:2.0
PRODID:-//ChamberMaster//Event Calendar 2.0//EN
METHOD:PUBLISH
X-PUBLISHED-TTL:P3D
REFRESH-INTERVAL:P3D
CALSCALE:GREGORIAN
BEGIN:VEVENT
DTSTART;VALUE=DATE:20260217
DTEND;VALUE=DATE:20260220
TRANSP:TRANSPARENT
X-MICROSOFT-CDO-ALLDAYEVENT:TRUE
SUMMARY:All You Can Eat Fish Fry Kick-Off at Prairie Landing
DESCRIPTION:All You Can Eat Fish Fry in McChesney's Pub & Grill on Tuesday\, February 17\, 2026\, through Thursday\, February 19\, 2026. Reservations Recommended by Call 630.208.7600 x3. \n\n$24 Includes: All You Can Eat Beer Battered Fried or Broiled Cod with French Fries\, Tartar Sauce\, Hush Puppies\, and Coleslaw\n\n$20   For only one plate (no refills)\n\nAdditional Limited Menu Items\n\nCarry Out Available (All You Can Eat is dine-in only)
X-ALT-DESC;FMTTYPE=text/html:<p>All You Can Eat Fish Fry in McChesney&rsquo\;s Pub &amp\; Grill on Tuesday\, February 17\, 2026\, through Thursday\, February 19\, 2026. Reservations Recommended by Call 630.208.7600 x3.&nbsp\;</p>\n\n<p>$24 Includes:&nbsp\;All You Can Eat Beer Battered Fried or Broiled Cod with French Fries\, Tartar Sauce\, Hush Puppies\, and Coleslaw<br />\n$20 &ndash\; For only one plate (no refills)</p>\n\n<p>Additional Limited Menu Items<br />\nCarry Out Available&nbsp\;<em>(All You Can Eat is dine-in only</em>)</p>\n
LOCATION:Prairie Landing Golf Club 2325 Longest Drive West Chicago\, IL 60185
UID:e.1902.30724
SEQUENCE:3
DTSTAMP:20260419T145906Z
URL:https://business.bataviachamber.org/events/details/all-you-can-eat-fish-fry-kick-off-at-prairie-landing-02-17-2026-30724
END:VEVENT

END:VCALENDAR
