BEGIN:VCALENDAR
VERSION:2.0
PRODID:-//ChamberMaster//Event Calendar 2.0//EN
METHOD:PUBLISH
X-PUBLISHED-TTL:P3D
REFRESH-INTERVAL:P3D
CALSCALE:GREGORIAN
BEGIN:VEVENT
DTSTART:20110716T050000Z
DTEND:20110716T050000Z
X-MICROSOFT-CDO-ALLDAYEVENT:FALSE
SUMMARY:Alden of Waterford Ice Cream Social
DESCRIPTION:Alden Gardens of Waterford is hosting an Ice Crem Social!!  Come out and enjoy the Aurora Bookmobile\, PB & J Karaoke and Free Ice Cream! Fun for the whole family!!!
X-ALT-DESC;FMTTYPE=text/html:Alden Gardens of Waterford is hosting an Ice Crem Social!!  Come out and enjoy the Aurora Bookmobile\, PB & J Karaoke and Free Ice Cream! Fun for the whole family!!!
LOCATION:Alden Gardens of Waterford
UID:e.1902.312
SEQUENCE:3
DTSTAMP:20260419T133027Z
URL:https://business.bataviachamber.org/events/details/alden-of-waterford-ice-cream-social-07-16-2011-312
END:VEVENT

END:VCALENDAR
