BEGIN:VCALENDAR
VERSION:2.0
PRODID:-//ChamberMaster//Event Calendar 2.0//EN
METHOD:PUBLISH
X-PUBLISHED-TTL:P3D
REFRESH-INTERVAL:P3D
CALSCALE:GREGORIAN
BEGIN:VEVENT
DTSTART:20110610T050000Z
DTEND:20110610T050000Z
X-MICROSOFT-CDO-ALLDAYEVENT:FALSE
SUMMARY:Alden of Waterford Cruise Night Car Show
DESCRIPTION:Alden of Waterford is hosting a Cruise Night - Car Show.  Free admission\, free popcorm\, free wine tasting and much more.  Hot dogs\, chips\, drinks available for purchase. For more information call 630-851-1880.
X-ALT-DESC;FMTTYPE=text/html:Alden of Waterford is hosting a Cruise Night - Car Show.  Free admission\, free popcorm\, free wine tasting and much more.  Hot dogs\, chips\, drinks available for purchase. For more information call 630-851-1880.
LOCATION:Alden of Waterford
UID:e.1902.222
SEQUENCE:3
DTSTAMP:20260419T151946Z
URL:https://business.bataviachamber.org/events/details/alden-of-waterford-cruise-night-car-show-06-10-2011-222
END:VEVENT

END:VCALENDAR
