BEGIN:VCALENDAR
VERSION:2.0
PRODID:-//ChamberMaster//Event Calendar 2.0//EN
METHOD:PUBLISH
X-PUBLISHED-TTL:P3D
REFRESH-INTERVAL:P3D
CALSCALE:GREGORIAN
BEGIN:VEVENT
DTSTART:20110515T050000Z
DTEND:20110515T050000Z
X-MICROSOFT-CDO-ALLDAYEVENT:FALSE
SUMMARY:ALA Summer Leagues Begin
DESCRIPTION:ALA is having a summer league this year with qualifiers starting on Sunday May 15th. This league does not require you to be a member and is open to the public. \n\n•League Type: 300 Round - 12 ends of5 shots \n•Target Type: Blue Face / White Center\n•League Fees: $30 entry plus $1 per shoot\n•Qualifier Requirements: Begins May 15th. \n•3 scores required by June 12th\n•League Begins: June12th\n•League Scoring: 10 scores need to be turned in over the next 12 weeks with the final score tobe turned in by week ending September 3rd\n•Prizes: First place team to receive $30 per person\, 2ndplace team $20 per person\n\nAll proceeds from this league are used in an ongoing effort for the club to purchase new equipment and targets that are desperately needed for ALA to better contribute tothe community by holding classes\, leagues\, fun shoots\, and other events along with fulfilling the club mission. \n\nContact Karen Larsen at 630-301-9341 or karen.larsen@auroralandarchers.com or comecome into the club. Please check the website for hours of operation.
X-ALT-DESC;FMTTYPE=text/html:ALA is having a summer league this year with qualifiers starting on Sunday May 15th. This league does not require you to be a member and is open to the public. \n\n•League Type: 300 Round - 12 ends of5 shots \n•Target Type: Blue Face / White Center\n•League Fees: $30 entry plus $1 per shoot\n•Qualifier Requirements: Begins May 15th. \n•3 scores required by June 12th\n•League Begins: June12th\n•League Scoring: 10 scores need to be turned in over the next 12 weeks with the final score tobe turned in by week ending September 3rd\n•Prizes: First place team to receive $30 per person\, 2ndplace team $20 per person\n\nAll proceeds from this league are used in an ongoing effort for the club to purchase new equipment and targets that are desperately needed for ALA to better contribute tothe community by holding classes\, leagues\, fun shoots\, and other events along with fulfilling the club mission. \n\nContact Karen Larsen at 630-301-9341 or karen.larsen@auroralandarchers.com or comecome into the club. Please check the website for hours of operation.
LOCATION:Lippold Center
UID:e.1902.245
SEQUENCE:3
DTSTAMP:20260419T163854Z
URL:https://business.bataviachamber.org/events/details/ala-summer-leagues-begin-05-15-2011-245
END:VEVENT

END:VCALENDAR
