BEGIN:VCALENDAR
VERSION:2.0
PRODID:-//ChamberMaster//Event Calendar 2.0//EN
METHOD:PUBLISH
X-PUBLISHED-TTL:P3D
REFRESH-INTERVAL:P3D
CALSCALE:GREGORIAN
BEGIN:VEVENT
DTSTART:20100302T060000Z
DTEND:20100302T060000Z
X-MICROSOFT-CDO-ALLDAYEVENT:FALSE
SUMMARY:Aggressive Behavior in 1-5 Year Olds
DESCRIPTION:Do you have a child age 1-5 in daycare\, or are you a daycare provider of children 1-5?  \n\nIf you have questioned what to do when your child acts out\, or when a child in your care acts outaggressively\, this Parent Support & Education Series presentation is for you.  This training will explore the ways in which to handle aggressive behavior\, focusing on preventing problems and encouraging positive behavior.  \n\n"Aggressive Behavior in 1-5 Year Olds” will be presented on Tuesday\, March 2\, 2010 from 7:00 - 9:00 PM at the TriCity Family Services offices\, located at 1120 Randall Ct. Geneva\, IL 60134.\n\nTriCity Family Services Early Childhood Mental Health Consultant\, Mandy Semenik\,MS\, LPC\, will present this topic geared toward parents and childcare providers of 1-5 year old children.  2.0 in-service hours are available for childcare providers.  \n\nAdvance registration is preferred.  Call TriCity Family Services to register at 630-232-1070.  Entrance fee is $5 per attendee.Fee waivers are available based on need.
X-ALT-DESC;FMTTYPE=text/html:Do you have a child age 1-5 in daycare\, or are you a daycare provider of children 1-5?  \n\nIf you have questioned what to do when your child acts out\, or when a child in your care acts outaggressively\, this Parent Support & Education Series presentation is for you.  This training will explore the ways in which to handle aggressive behavior\, focusing on preventing problems and encouraging positive behavior.  \n\n"Aggressive Behavior in 1-5 Year Olds” will be presented on Tuesday\, March 2\, 2010 from 7:00 - 9:00 PM at the TriCity Family Services offices\, located at 1120 Randall Ct. Geneva\, IL 60134.\n\nTriCity Family Services Early Childhood Mental Health Consultant\, Mandy Semenik\,MS\, LPC\, will present this topic geared toward parents and childcare providers of 1-5 year old children.  2.0 in-service hours are available for childcare providers.  \n\nAdvance registration is preferred.  Call TriCity Family Services to register at 630-232-1070.  Entrance fee is $5 per attendee.Fee waivers are available based on need. \n
LOCATION:TriCity Family Services
UID:e.1902.1107
SEQUENCE:3
DTSTAMP:20260420T162018Z
URL:https://business.bataviachamber.org/events/details/aggressive-behavior-in-1-5-year-olds-03-02-2010-1107
END:VEVENT

END:VCALENDAR
