BEGIN:VCALENDAR
VERSION:2.0
PRODID:-//ChamberMaster//Event Calendar 2.0//EN
METHOD:PUBLISH
X-PUBLISHED-TTL:P3D
REFRESH-INTERVAL:P3D
CALSCALE:GREGORIAN
BEGIN:VEVENT
DTSTART:20101126T060000Z
DTEND:20101128T060000Z
X-MICROSOFT-CDO-ALLDAYEVENT:FALSE
SUMMARY:After Thanksgiving Weekend Sale featuring Midnight Madness
DESCRIPTION:Don't miss the biggest sale of the year. Enjoy exceptional holiday savings and extended shopping hours\, plus\, experience Midnight Madness as stores open their doors at midnight right after Thanksgiving ends. Some stores may open even earlier. Visit premiumoutlets.com/chicago for a complete list of stores and holiday hours.
X-ALT-DESC;FMTTYPE=text/html:Don't miss the biggest sale of the year. Enjoy exceptional holiday savings and extended shopping hours\, plus\, experience Midnight Madness as stores open their doors at midnight right after Thanksgiving ends. Some stores may open even earlier. Visit premiumoutlets.com/chicago for a complete list of stores and holiday hours.
LOCATION:Chicago Premium Outlets
UID:e.1902.88
SEQUENCE:3
DTSTAMP:20260420T024100Z
URL:https://business.bataviachamber.org/events/details/after-thanksgiving-weekend-sale-featuring-midnight-madness-11-26-2010-88
END:VEVENT

END:VCALENDAR
