BEGIN:VCALENDAR
VERSION:2.0
PRODID:-//ChamberMaster//Event Calendar 2.0//EN
METHOD:PUBLISH
X-PUBLISHED-TTL:P3D
REFRESH-INTERVAL:P3D
CALSCALE:GREGORIAN
BEGIN:VEVENT
DTSTART:20101204T060000Z
DTEND:20101204T060000Z
X-MICROSOFT-CDO-ALLDAYEVENT:FALSE
SUMMARY:Advent Retreat - All Are Welcome!
DESCRIPTION:Start the holidays by focusing on the "reason for the season" at an Advent Retreat. The retreat begins at 2 p.m.\, followed by a brief Evening Prayer service at 5:00 p.m. and Supper at 5:30.  The maincourse will be provided\; guests are asked to bring a dish to pass\, if you are able.  \n\nFor furtherinformation call Calvary at 630-879-3378.
X-ALT-DESC;FMTTYPE=text/html:Start the holidays by focusing on the "reason for the season" at an Advent Retreat. The retreat begins at 2 p.m.\, followed by a brief Evening Prayer service at 5:00 p.m. and Supper at 5:30.  The maincourse will be provided\; guests are asked to bring a dish to pass\, if you are able.  \n\nFor furtherinformation call Calvary at 630-879-3378.
LOCATION:Calvary Episcopal Church
UID:e.1902.104
SEQUENCE:3
DTSTAMP:20260420T004622Z
URL:https://business.bataviachamber.org/events/details/advent-retreat-all-are-welcome-12-04-2010-104
END:VEVENT

END:VCALENDAR
