BEGIN:VCALENDAR
VERSION:2.0
PRODID:-//ChamberMaster//Event Calendar 2.0//EN
METHOD:PUBLISH
X-PUBLISHED-TTL:P3D
REFRESH-INTERVAL:P3D
CALSCALE:GREGORIAN
BEGIN:VEVENT
DTSTART:20241122T010000Z
DTEND:20241124T050000Z
X-MICROSOFT-CDO-ALLDAYEVENT:FALSE
SUMMARY:Adam Conover
DESCRIPTION:Adam Conover is a comedian and creator of Adam Ruins Everything\, a hit series that debunks common misconceptions with humor and insight. His latest show\, The G Word\, produced with Barack Obama's Higher Ground Productions\, premiered on Netflix in 2022. Adam also appears on BoJack Horseman\, Tuca & Bertie\, and performs stand-up nationwide.
X-ALT-DESC;FMTTYPE=text/html:<div>Adam Conover is a comedian and creator of Adam Ruins Everything\, a hit series that debunks common misconceptions with humor and insight. His latest show\, The G Word\, produced with Barack Obama&#39\;s Higher Ground Productions\, premiered on Netflix in 2022. Adam also appears on BoJack Horseman\, Tuca &amp\; Bertie\, and performs stand-up nationwide.</div>\n\n<div>&nbsp\;</div>\n
LOCATION:The Comedy Vault 18 E. Wilson St. Batavia\, IL 60510
UID:e.1902.26410
SEQUENCE:3
DTSTAMP:20260425T232954Z
URL:https://business.bataviachamber.org/events/details/adam-conover-26410
END:VEVENT

END:VCALENDAR
