BEGIN:VCALENDAR
VERSION:2.0
PRODID:-//ChamberMaster//Event Calendar 2.0//EN
METHOD:PUBLISH
X-PUBLISHED-TTL:P3D
REFRESH-INTERVAL:P3D
CALSCALE:GREGORIAN
BEGIN:VEVENT
DTSTART:20201029T150000Z
DTEND:20201030T000000Z
X-MICROSOFT-CDO-ALLDAYEVENT:FALSE
SUMMARY:Abbey Farms Pumpkin Daze
DESCRIPTION:Pumpkin Daze 2020: September 19th - November 1st\n\nWednesday - Sunday 10am to 7pm \n\nClosed Monday & Tuesday\n\n\n\nYour One Stop Shop For Fall Season Fun!\n\n\n\nWelcome to your authentic farm adventure! Step out and away from modern life and make new memories together with your friends and family at Abbey Farms Pumpkin Daze!  Packed with activities\, our 40-acre pumpkin farm has everything you need to make your family?s day at the farm special.  From our friendly petting zoo on the weekends to your ability to experience Mother Nature ? a visit to Abbey Farms is a must do on your list of Fall adventures! Be sure to check out our click through our images below for a glance of all the fun attractions!  \n\nIf you like craft beer\, grab a craft beer or glass of wine under the tent each weekend (Saturdays and Sundays\, only). While you listen to live music from local artists in the afternoons (weekends)\, the rest of your group can sleuth their way through one of the largest corn mazes in all Chicagoland! If you like animals\, enjoy our petting zoo on the weekends. Complete your visit with a trip to our pumpkin field filled with Abbey Farms grown pumpkins ready for carving!
X-ALT-DESC;FMTTYPE=text/html:<div style="background:transparent\; border:0px\; padding:0px">\n<h1><strong><span style="font-family:enriqueta\,serif">Pumpkin Daze 2020: September 19th - November 1st</span></strong></h1>\n\n<p><em>Wednesday - Sunday 10am to 7pm&nbsp\;</em></p>\n\n<p><em>Closed Monday &amp\; Tuesday</em></p>\n</div>\n\n<div style="background:transparent\; border:0px\; padding:0px">\n<p><span style="font-size:22px"><em><span style="font-family:enriqueta\,serif">Your One Stop Shop For Fall Season Fun!</span></em></span></p>\n</div>\n\n<div style="background:transparent\; border:0px\; padding:0px">\n<p><span style="font-size:16px\;"><span style="font-family:arial\;">Welcome to your authentic farm adventure! Step out and&nbsp\;away from modern life and make new memories together with your friends and family at Abbey Farms Pumpkin Daze!&nbsp\;&nbsp\;Packed with activities\, our 40-acre pumpkin farm has everything&nbsp\;you need to make your family?s day at the farm special.&nbsp\;&nbsp\;From our friendly petting zoo on the weekends to your ability to experience Mother Nature ? a visit to Abbey Farms is a must do on your list of&nbsp\;Fall adventures! Be sure to check out our click through our images below&nbsp\;for a glance of all the fun attractions!&nbsp\;&nbsp\;</span></span></p>\n\n<p><span style="font-size:16px\;"><span style="font-family:arial\;">If you like craft beer\,&nbsp\;grab a craft beer or glass of wine under the tent each weekend (Saturdays and Sundays\, only). While you listen to live music from local artists in the afternoons (weekends)\, the rest of your group can sleuth their way through one of the largest corn mazes in all Chicagoland! If you like animals\, enjoy our petting zoo on the weekends. Complete your visit with a trip to our pumpkin field filled with Abbey Farms grown pumpkins ready for carving!</span></span></p>\n</div>\n
LOCATION:Abbey Farms: Address: 2855 Hart Road Aurora\, IL 60502 630) 966-7775
UID:e.1902.12455
SEQUENCE:3
DTSTAMP:20260422T095729Z
URL:https://business.bataviachamber.org/events/details/abbey-farms-pumpkin-daze-10-29-2020-12455
END:VEVENT

END:VCALENDAR
