BEGIN:VCALENDAR
VERSION:2.0
PRODID:-//ChamberMaster//Event Calendar 2.0//EN
METHOD:PUBLISH
X-PUBLISHED-TTL:P3D
REFRESH-INTERVAL:P3D
CALSCALE:GREGORIAN
BEGIN:VEVENT
DTSTART:20101113T060000Z
DTEND:20101113T060000Z
X-MICROSOFT-CDO-ALLDAYEVENT:FALSE
SUMMARY:AAA Member Appreciation Day
DESCRIPTION:Show your valid AAA card at the Information Center and receive a free coupon book and other specialone-day offers. Register to win great prizes. The first 50 members to show their card will receive afree souvenir tote bag. Information Center opens at 10:00 am
X-ALT-DESC;FMTTYPE=text/html:Show your valid AAA card at the Information Center and receive a free coupon book and other specialone-day offers. Register to win great prizes. The first 50 members to show their card will receive afree souvenir tote bag. Information Center opens at 10:00 am
LOCATION:Chicago Premium Outlets
UID:e.1902.87
SEQUENCE:3
DTSTAMP:20260420T023611Z
URL:https://business.bataviachamber.org/events/details/aaa-member-appreciation-day-11-13-2010-87
END:VEVENT

END:VCALENDAR
