BEGIN:VCALENDAR
VERSION:2.0
PRODID:-//ChamberMaster//Event Calendar 2.0//EN
METHOD:PUBLISH
X-PUBLISHED-TTL:P3D
REFRESH-INTERVAL:P3D
CALSCALE:GREGORIAN
BEGIN:VEVENT
DTSTART:20110723T050000Z
DTEND:20110723T050000Z
X-MICROSOFT-CDO-ALLDAYEVENT:FALSE
SUMMARY:AAA Member Appreciation Day
DESCRIPTION:Part of the Show Your Card and Save Program\nDon't miss this all-day fun-filled event to include:\n- Special one-day savings at participating stores for AAA members\n- The first 100 members to showtheir valid AAA Member Card will receive a free souvenir tote bag at the Information Center\n- Register to win great prizes. No purchase necessary
X-ALT-DESC;FMTTYPE=text/html:Part of the Show Your Card and Save Program\nDon't miss this all-day fun-filled event to include:\n- Special one-day savings at participating stores for AAA members\n- The first 100 members to showtheir valid AAA Member Card will receive a free souvenir tote bag at the Information Center\n- Register to win great prizes. No purchase necessary
LOCATION:Chicago Premium Outlets
UID:e.1902.317
SEQUENCE:3
DTSTAMP:20260423T084707Z
URL:https://business.bataviachamber.org/events/details/aaa-member-appreciation-day-07-23-2011-317
END:VEVENT

END:VCALENDAR
