BEGIN:VCALENDAR
VERSION:2.0
PRODID:-//ChamberMaster//Event Calendar 2.0//EN
METHOD:PUBLISH
X-PUBLISHED-TTL:P3D
REFRESH-INTERVAL:P3D
CALSCALE:GREGORIAN
BEGIN:VEVENT
DTSTART:20101204T060000Z
DTEND:20101204T060000Z
X-MICROSOFT-CDO-ALLDAYEVENT:FALSE
SUMMARY:A Service of Lessons & Carols
DESCRIPTION:A concert and worship service that includes traditional Christmas music\, Bible readings telling thestory of Christmas\, and congregational singing.
X-ALT-DESC;FMTTYPE=text/html:A concert and worship service that includes traditional Christmas music\, Bible readings telling thestory of Christmas\, and congregational singing.
LOCATION:Immanuel Lutheran Church & School
UID:e.1902.95
SEQUENCE:3
DTSTAMP:20260420T004620Z
URL:https://business.bataviachamber.org/events/details/a-service-of-lessons-carols-12-04-2010-95
END:VEVENT

END:VCALENDAR
