BEGIN:VCALENDAR
VERSION:2.0
PRODID:-//ChamberMaster//Event Calendar 2.0//EN
METHOD:PUBLISH
X-PUBLISHED-TTL:P3D
REFRESH-INTERVAL:P3D
CALSCALE:GREGORIAN
BEGIN:VEVENT
DTSTART:20111203T060000Z
DTEND:20111203T060000Z
X-MICROSOFT-CDO-ALLDAYEVENT:FALSE
SUMMARY:A Service of Lessons & Carols
DESCRIPTION:In it’s eighteenth year\, Immanuel’s A Service of \nLessons and \nCarols blends the vocal talents ofa mass choir\, a string  ensemble \ncomprised of volunteer and professional musicians\, and readings that highlight the coming of the Christ child.
X-ALT-DESC;FMTTYPE=text/html:In it’s eighteenth year\, Immanuel’s A Service of \nLessons and \nCarols blends the vocal talents ofa mass choir\, a string  ensemble \ncomprised of volunteer and professional musicians\, and readings that highlight the coming of the Christ child. \n
LOCATION:Immanuel Lutheran Church & School
UID:e.1902.440
SEQUENCE:3
DTSTAMP:20260423T001751Z
URL:https://business.bataviachamber.org/events/details/a-service-of-lessons-carols-12-03-2011-440
END:VEVENT

END:VCALENDAR
