BEGIN:VCALENDAR
VERSION:2.0
PRODID:-//ChamberMaster//Event Calendar 2.0//EN
METHOD:PUBLISH
X-PUBLISHED-TTL:P3D
REFRESH-INTERVAL:P3D
CALSCALE:GREGORIAN
BEGIN:VEVENT
DTSTART:20161204T000000Z
DTEND:20161204T010000Z
X-MICROSOFT-CDO-ALLDAYEVENT:FALSE
SUMMARY:A Service of Lessons and Carols
DESCRIPTION:The mass choir of Immanuel Lutheran Church\, accompanied by a professional string ensemble\, leads the audience through song and Scripture in preparation for the birth of Christ.
X-ALT-DESC;FMTTYPE=text/html:The mass choir of Immanuel Lutheran Church\, accompanied by a professional string ensemble\, leads the audience through song and Scripture in preparation for the birth of Christ.
LOCATION:Immanuel Lutheran Church and School 950 Hart Road Batavia\, Illinois 60510
UID:e.1902.6483
SEQUENCE:3
DTSTAMP:20260425T190504Z
URL:https://business.bataviachamber.org/events/details/a-service-of-lessons-and-carols-6483
END:VEVENT

END:VCALENDAR
