BEGIN:VCALENDAR
VERSION:2.0
PRODID:-//ChamberMaster//Event Calendar 2.0//EN
METHOD:PUBLISH
X-PUBLISHED-TTL:P3D
REFRESH-INTERVAL:P3D
CALSCALE:GREGORIAN
BEGIN:VEVENT
DTSTART:20100520T050000Z
DTEND:20100520T050000Z
X-MICROSOFT-CDO-ALLDAYEVENT:FALSE
SUMMARY:A Poetry and Wine Pairing
DESCRIPTION:Gibby's Wine Den and Detour Productions present A Wine and Poetry Pairing.\n\nTake a Detour and enjoy a glass of wine with select poems by Jacquée T. Her poems' styles range from somberness to giddiness.\n\nJacquée Thomas\, known as Jacquée T.\, is the founder of Detour Productions\, a publishing and entertainment company\, and is the authoress of Growing Up (the pain\, the joy\, the discoveries).\n\nDetour Production's products and events encourage taking a 'Detour' to the bits of romance life offers. The Wine & Poetry Pairing offers one fantastic Detour!  A special menu will be selected for the evening\, with wine by the glass at $5. Guests may enjoy Jacquée T. reading a few selections from her book "Growing Up"\, while enjoying hand selected wines.\n\nAfterward\, Miss Thomas will be available to sign copies of her book.\n\nPlease RSVP to 630.208.6424 or info@gibbys-wine.com.\n\n*For more information on Jacquée T.. visit DetourProductions.biz.\n*For more information on Gibby's\, visit Gibbys-Wine.com.
X-ALT-DESC;FMTTYPE=text/html:Gibby's Wine Den and Detour Productions present A Wine and Poetry Pairing.\n\nTake a Detour and enjoy a glass of wine with select poems by Jacquée T. Her poems' styles range from somberness to giddiness.\n\nJacquée Thomas\, known as Jacquée T.\, is the founder of Detour Productions\, a publishing and entertainment company\, and is the authoress of Growing Up (the pain\, the joy\, the discoveries).\n\nDetour Production's products and events encourage taking a 'Detour' to the bits of romance life offers. The Wine & Poetry Pairing offers one fantastic Detour!  A special menu will be selected for the evening\, with wine by the glass at $5. Guests may enjoy Jacquée T. reading a few selections from her book "Growing Up"\, while enjoying hand selected wines.\n\nAfterward\, Miss Thomas will be available to sign copies of her book.\n\nPlease RSVP to 630.208.6424 or info@gibbys-wine.com.\n\n*For more information on Jacquée T.. visit DetourProductions.biz.\n*For more information on Gibby's\, visit Gibbys-Wine.com.\n\n
LOCATION:Gibby's Wine Den
UID:e.1902.1162
SEQUENCE:3
DTSTAMP:20260420T130718Z
URL:https://business.bataviachamber.org/events/details/a-poetry-and-wine-pairing-05-20-2010-1162
END:VEVENT

END:VCALENDAR
