BEGIN:VCALENDAR
VERSION:2.0
PRODID:-//ChamberMaster//Event Calendar 2.0//EN
METHOD:PUBLISH
X-PUBLISHED-TTL:P3D
REFRESH-INTERVAL:P3D
CALSCALE:GREGORIAN
BEGIN:VEVENT
DTSTART:20201024T000000Z
DTEND:20201024T020000Z
X-MICROSOFT-CDO-ALLDAYEVENT:FALSE
SUMMARY:A Nightmare at West Main
DESCRIPTION:The ghosts are coming out to play in the forest at West Main Community Park. Join us for a haunted hike through our spooky trails. Evil lurks in the forest\, so enter if you dare! This event is not suitable for kids under 10 years old. Pre-registration is required\, and tickets are $10 per person. Every person needs to be registered Please arrive within the time frame you sign up for. Time slots include: 7:00-7:30 pm\, 7:30-8:00 pm\, 8:00-8:30 pm\, 8:30-9:00 pm. Volunteers needed - Help us host this spooky event! For more information\, contact Bethanne at bethanneg@bataviaparks.org or 630-406-5282 ext. 2066.
X-ALT-DESC;FMTTYPE=text/html:The ghosts are coming out to play in the forest at West Main Community Park. Join us for a haunted hike through our spooky trails. Evil lurks in the forest\, so enter if you dare! This event is not suitable for kids under 10 years old. Pre-registration is required\, and tickets are $10 per person. Every person needs to be registered Please arrive within the time frame you sign up for. Time slots include: 7:00-7:30 pm\, 7:30-8:00 pm\, 8:00-8:30 pm\, 8:30-9:00 pm. Volunteers needed - Help us host this spooky event! For more information\, contact Bethanne at bethanneg@bataviaparks.org or 630-406-5282 ext. 2066.
LOCATION:West Main Community Park
UID:e.1902.12461
SEQUENCE:3
DTSTAMP:20260422T095352Z
URL:https://business.bataviachamber.org/events/details/a-nightmare-at-west-main-10-23-2020-12461
END:VEVENT

END:VCALENDAR
