BEGIN:VCALENDAR
VERSION:2.0
PRODID:-//ChamberMaster//Event Calendar 2.0//EN
METHOD:PUBLISH
X-PUBLISHED-TTL:P3D
REFRESH-INTERVAL:P3D
CALSCALE:GREGORIAN
BEGIN:VEVENT
DTSTART:20110722T050000Z
DTEND:20110722T050000Z
X-MICROSOFT-CDO-ALLDAYEVENT:FALSE
SUMMARY:A Midsummer Night's Dream Wine Tasting Series ~ Wines From
DESCRIPTION:What better dream can there be but a summer filled with wine tastings? At Gibby's Wine Den this summer each wine tasting will have a theme. This will encourage you to delve a bit deeper into the nuances of the featured regions while enjoying a glimpse of the varietals from the area. Tonight\, we feature WINES FROM DOWN UNDER!  Australia and New Zealand offer distinct variations of the varietals welove to produce in the United States. Enjoy learning and tasting these delicious wines while listening to the musical sylings of "Dave's Not Here".  Fridays are fun at Gibby's! ($2 wine tasting fee)
X-ALT-DESC;FMTTYPE=text/html:What better dream can there be but a summer filled with wine tastings? At Gibby's Wine Den this summer each wine tasting will have a theme. This will encourage you to delve a bit deeper into the nuances of the featured regions while enjoying a glimpse of the varietals from the area. Tonight\, we feature WINES FROM DOWN UNDER!  Australia and New Zealand offer distinct variations of the varietals welove to produce in the United States. Enjoy learning and tasting these delicious wines while listening to the musical sylings of "Dave's Not Here".  Fridays are fun at Gibby's! ($2 wine tasting fee)
LOCATION:Gibby's Wine Den
UID:e.1902.297
SEQUENCE:3
DTSTAMP:20260419T132536Z
URL:https://business.bataviachamber.org/events/details/a-midsummer-night-s-dream-wine-tasting-series-wines-from-07-22-2011-297
END:VEVENT

END:VCALENDAR
