BEGIN:VCALENDAR
VERSION:2.0
PRODID:-//ChamberMaster//Event Calendar 2.0//EN
METHOD:PUBLISH
X-PUBLISHED-TTL:P3D
REFRESH-INTERVAL:P3D
CALSCALE:GREGORIAN
BEGIN:VEVENT
DTSTART:20101105T130000Z
DTEND:20101105T143000Z
X-MICROSOFT-CDO-ALLDAYEVENT:FALSE
SUMMARY:A Leadership Primer
DESCRIPTION:If You Missed This in September...DON'T Miss it Again!! A Leadership Primer with Dr. Ray Benedetto Learn with Dr. Ray Benedetto as he presents an introduction to the Spring 2001 series\n"Grass-roots Leadership"designed exclusively for the Batavia Chamber of Commerce. Get More from Your People for Business Success: A Leadership Primer. Dr. Ray Benedetto will preview the upcoming 2011 Grass-roots Leadership Program series with this dynamic\, fast-paced introductory presentation of a top quality\, university-level program. Members said\, “I really enjoy the topic and Ray’s immense knowledge and enthusiasm—Great topic!---Definitely wanted more. Great job!”  Don’t miss this opportunity to learn\, grow\, and improve your business and bottom line. The $25 registration fee applies toward the registration fee for the 2011 program. RSVP…
X-ALT-DESC;FMTTYPE=text/html:<DIV style="FONT-FAMILY: Arial" align=center><FONT face="Times New Roman" color=#800000 size=5><STRONG>If You Missed This in September...DON'T Miss it Again!!</STRONG></FONT></DIV><DIV style="FONT-FAMILY: Arial" align=center><FONT face="Times New Roman" color=#800000 size=5><STRONG></STRONG></FONT>&nbsp\;</DIV><DIV style="FONT-FAMILY: Arial" align=center><FONT face="Times New Roman" color=#800000 size=5><STRONG>A Leadership Primer with Dr. Ray Benedetto</STRONG></FONT></DIV><DIV style="FONT-FAMILY: Arial" align=center><STRONG><FONT face="Times New Roman" color=#000080 size=5></FONT></STRONG>&nbsp\;</DIV><DIV style="FONT-FAMILY: Arial" align=center><STRONG><FONT face="Times New Roman" color=#000080 size=4>Learn with Dr. Ray Benedetto as he presents an </FONT></STRONG></DIV><DIV style="FONT-FAMILY: Arial" align=center><STRONG><FONT face="Times New Roman" color=#000080 size=4>introduction to the Spring 2001 series<BR><FONT color=#800000 size=5>"Grass-roots Leadership"</FONT></FONT></STRONG></DIV><DIV style="FONT-FAMILY: Arial" align=center><STRONG><FONT face="Times New Roman" color=#000080 size=4>designed exclusively for the Batavia Chamber of Commerce.</FONT></STRONG></DIV><DIV style="FONT-FAMILY: Arial" align=center><STRONG><FONT face="Times New Roman" color=#000080 size=4></FONT></STRONG>&nbsp\;</DIV><STRONG><FONT face="Times New Roman" color=#000080 size=4><DIV style="FONT-FAMILY: Arial" align=left></FONT></STRONG><SPAN style="FONT-SIZE: 9pt\; FONT-FAMILY: 'Gill Sans MT'\; mso-default-font-family: 'Gill Sans MT'\; mso-ascii-font-family: 'Gill Sans MT'\; mso-latin-font-family: 'Gill Sans MT'\; mso-latinext-font-family: 'Gill Sans MT'\; language: EN\; mso-ansi-language: EN"><FONT size=4><FONT face="Times New Roman"><SPAN style="FONT-SIZE: 12pt\; FONT-FAMILY: 'Times New Roman'\; mso-ansi-language: EN-US\; mso-fareast-font-family: 'Times New Roman'\; mso-fareast-language: EN-US\; mso-bidi-language: AR-SA"><EM>Get More from Your People for Business Success: A Leadership Primer. </EM></SPAN><SPAN style="FONT-SIZE: 12pt\; FONT-FAMILY: 'Times New Roman'\; mso-ansi-language: EN-US\; mso-fareast-font-family: 'Times New Roman'\; mso-fareast-language: EN-US\; mso-bidi-language: AR-SA">Dr. Ray Benedetto will preview the upcoming 2011 Grass-roots Leadership Program series with this dynamic\, fast-paced introductory presentation of&nbsp\;a top quality\, university-level program. Members said\, <B style="mso-bidi-font-weight: normal">“I really enjoy the topic and Ray’s immense knowledge and enthusiasm—Great topic!---Definitely wanted more. Great job!</B>” </SPAN></FONT></FONT></SPAN></DIV><DIV style="FONT-FAMILY: Arial" align=left><SPAN style="FONT-SIZE: 9pt\; FONT-FAMILY: 'Gill Sans MT'\; mso-default-font-family: 'Gill Sans MT'\; mso-ascii-font-family: 'Gill Sans MT'\; mso-latin-font-family: 'Gill Sans MT'\; mso-latinext-font-family: 'Gill Sans MT'\; language: EN\; mso-ansi-language: EN"><FONT size=4><FONT face="Times New Roman"><SPAN style="FONT-SIZE: 12pt\; FONT-FAMILY: 'Times New Roman'\; mso-ansi-language: EN-US\; mso-fareast-font-family: 'Times New Roman'\; mso-fareast-language: EN-US\; mso-bidi-language: AR-SA"></SPAN></FONT></FONT></SPAN>&nbsp\;</DIV><DIV style="FONT-FAMILY: Arial" align=left><SPAN style="FONT-SIZE: 9pt\; FONT-FAMILY: 'Gill Sans MT'\; mso-default-font-family: 'Gill Sans MT'\; mso-ascii-font-family: 'Gill Sans MT'\; mso-latin-font-family: 'Gill Sans MT'\; mso-latinext-font-family: 'Gill Sans MT'\; language: EN\; mso-ansi-language: EN"><FONT size=4><FONT face="Times New Roman"><SPAN style="FONT-SIZE: 12pt\; FONT-FAMILY: 'Times New Roman'\; mso-ansi-language: EN-US\; mso-fareast-font-family: 'Times New Roman'\; mso-fareast-language: EN-US\; mso-bidi-language: AR-SA">Don’t miss this opportunity to learn\, grow\, and improve your business and bottom line. The $25 registration fee applies toward the registration fee for the 2011 program. RSVP…</SPAN></FONT></FONT></SPAN><SPAN style="FONT-SIZE: 9pt\; FONT-FAMILY: 'Gill Sans MT'\; mso-default-font-family: 'Gill Sans MT'\; mso-ascii-font-family: 'Gill Sans MT'\; mso-latin-font-family: 'Gill Sans MT'\; mso-latinext-font-family: 'Gill Sans MT'\; language: EN\; mso-ansi-language: EN"><FONT size=4><FONT color=#0f0f0f><FONT face="Times New Roman"></DIV></FONT></FONT></FONT></SPAN>
LOCATION:City of Batavia
UID:e.1902.1834
SEQUENCE:3
DTSTAMP:20260423T224546Z
URL:https://business.bataviachamber.org/events/details/a-leadership-primer-11-05-2010-1834
END:VEVENT

END:VCALENDAR
