BEGIN:VCALENDAR
VERSION:2.0
PRODID:-//ChamberMaster//Event Calendar 2.0//EN
METHOD:PUBLISH
X-PUBLISHED-TTL:P3D
REFRESH-INTERVAL:P3D
CALSCALE:GREGORIAN
BEGIN:VEVENT
DTSTART:20100917T130000Z
DTEND:20100917T143000Z
X-MICROSOFT-CDO-ALLDAYEVENT:FALSE
SUMMARY:A Leadership Primer
DESCRIPTION:A Leadership Primer with Dr. Ray Benedetto Learn with Dr. Ray Benedetto as he presents a \nLeadership Primer designed exclusively for the \nBatavia Chamber of Commerce. The Chamber is planning a World-Class \nLeadership Symposium next Spring.\n Find out what is possible on September 17!What do big and small companies have in common? Every big company began as a small one. Why do small companies suffer from some of the same problems that plague big companies? Early successes that helped company growth have morphed into bigger challenges many company leaders are ill-prepared to tackle.\nHow does the quality of leadership affect organizational performance? How do you know you are doing the things that will help you succeed and your business grow? Nearly 70% of all businesses suffer from decisions and actions that will eventually derail them\, including being over-managed and under-led. How can you prevent derailment by being better prepared as a leader? Over 100 documented definitions of leadership exist\, but this phenomenon and practice is poorly understood and poorly practiced. All one needs to do is look at recent leadership failures within Wall Street\, state and federal government\, and big business that have had ripple effects on small businesses throughout the Nation.\nThe Batavia Chamber is embarking on a new direction to help leaders grow their businesses within and outside of Batavia. We know the current economy has caused belt-tightening and close scrutiny of every expense\, but we also know business growth can only occur with the right investments of time\, talent\, and energy. For these reasons\, we are giving you an opportunity to test a valuable investment opportunity before committing your future time and energy.\nOn Friday\, September 17\, 2010\, Dr. Ray Benedetto will present a 90-minute Leadership Primer for business leaders of all levels and all company types. Why leadership and why now? Dr. Ray will help us understand the foundation of organizational success as told through the stories of high-performing\, successful small companies with whom he is working.\nDr. Ray is an outstanding presenter that get rave reviews for Chamber member who have heard him speak… “Ray’s a phenomenal facilitator\, speaker and teacher\,” “Love these sessions!” “Very excited about what I learned today!” Dr. Ray is popular with varied audiences—from his Chicago-area University of Phoenix MBA students to corporate groups who have engaged his services. If you are connected to Linked In\, check out Dr. Ray’s bio and recommendations. You’ll have an opportunity to learn from a top-line educator and business professional.
X-ALT-DESC;FMTTYPE=text/html:<DIV style="FONT-FAMILY: Arial" align=center><FONT face="Times New Roman" color=#800000 size=5><STRONG>A Leadership Primer with Dr. Ray Benedetto</STRONG></FONT></DIV><DIV style="FONT-FAMILY: Arial" align=center><STRONG><FONT face="Times New Roman" color=#000080 size=5></FONT></STRONG>&nbsp\;</DIV><DIV style="FONT-FAMILY: Arial" align=center><STRONG><FONT face="Times New Roman" color=#000080 size=4>Learn with Dr. Ray Benedetto as he presents a <BR><FONT color=#800000>Leadership Primer</FONT> designed exclusively for the <BR>Batavia Chamber of Commerce.</FONT></STRONG></DIV><DIV style="FONT-FAMILY: Arial" align=center><STRONG><FONT face="Times New Roman" color=#000080 size=4></FONT></STRONG>&nbsp\;</DIV><DIV style="FONT-FAMILY: Arial" align=center><STRONG><FONT face="Times New Roman" color=#000080 size=4>The Chamber is planning a World-Class <BR>Leadership Symposium next Spring.</FONT></STRONG></DIV><DIV style="FONT-FAMILY: Arial" align=center><STRONG><FONT face="Times New Roman" color=#000080 size=4><BR>&nbsp\;</DIV></FONT></STRONG><DIV style="FONT-FAMILY: Arial" align=center><STRONG><FONT face="Times New Roman" color=#000080 size=4>Find out what is possible on September 17!</FONT></STRONG></DIV><P align=left><SPAN style="FONT-SIZE: 9pt\; FONT-FAMILY: 'Gill Sans MT'\; mso-default-font-family: 'Gill Sans MT'\; mso-ascii-font-family: 'Gill Sans MT'\; mso-latin-font-family: 'Gill Sans MT'\; mso-latinext-font-family: 'Gill Sans MT'\; language: EN\; mso-ansi-language: EN"><FONT size=4><FONT face="Times New Roman" color=#0f0f0f>What do big and small companies have in common? Every big company began as a small one. Why do small companies suffer from some of the same problems that plague big companies? Early successes that helped company growth have morphed into bigger challenges many company leaders are ill-prepared to tackle.</FONT></FONT></SPAN></P><SPAN style="FONT-SIZE: 9pt\; FONT-FAMILY: 'Gill Sans MT'\; mso-default-font-family: 'Gill Sans MT'\; mso-ascii-font-family: 'Gill Sans MT'\; mso-latin-font-family: 'Gill Sans MT'\; mso-latinext-font-family: 'Gill Sans MT'\; language: EN\; mso-ansi-language: EN"><FONT size=4><FONT color=#0f0f0f><DIV style="FONT-FAMILY: Arial" align=left><BR><FONT face="Times New Roman">How does the quality of leadership affect organizational performance? How do you know you are doing the things that will help you succeed and your business grow? Nearly 70% of all businesses suffer from decisions and actions that will eventually derail them\, including being over-managed and under-led. How can you prevent derailment by being better prepared as a leader? Over 100 documented definitions of leadership exist\, but this phenomenon and practice is poorly understood and poorly practiced. All one needs to do is look at recent leadership failures within Wall Street\, state and federal government\, and big business that have had ripple effects on small businesses throughout the Nation.</FONT></DIV><DIV style="FONT-FAMILY: Arial" align=left><BR><FONT face="Times New Roman">The Batavia Chamber is embarking on a new direction to help leaders grow their businesses within and outside of Batavia. We know the current economy has caused belt-tightening and close scrutiny of every expense\, but we also know business growth can only occur with the right investments of time\, talent\, and energy. For these reasons\, we are giving you an opportunity to test a valuable investment opportunity before committing your future time and energy.</FONT></DIV><DIV style="FONT-FAMILY: Arial" align=left><BR><FONT face="Times New Roman">On Friday\, September 17\, 2010\, Dr. Ray Benedetto will present a 90-minute Leadership Primer for business leaders of all levels and all company types. Why leadership and why now? Dr. Ray will help us understand the foundation of organizational success as told through the stories of high-performing\, successful small companies with whom he is working.</FONT></DIV><DIV style="FONT-FAMILY: Arial" align=left><BR><FONT face="Times New Roman">Dr. Ray is an outstanding presenter that get rave reviews for Chamber member who have heard him speak… “Ray’s a phenomenal facilitator\, speaker and teacher\,” “Love these sessions!” “Very excited about what I learned today!” Dr. Ray is popular with varied audiences—from his Chicago-area University of Phoenix MBA students to corporate groups who have engaged his services. If you are connected to Linked In\, check out Dr. Ray’s bio and recommendations. You’ll have an opportunity to learn from a top-line educator and business professional.<BR></DIV></FONT></FONT></FONT></SPAN>
LOCATION:City of Batavia
UID:e.1902.1831
SEQUENCE:3
DTSTAMP:20260420T060523Z
URL:https://business.bataviachamber.org/events/details/a-leadership-primer-09-17-2010-1831
END:VEVENT

END:VCALENDAR
