BEGIN:VCALENDAR
VERSION:2.0
PRODID:-//ChamberMaster//Event Calendar 2.0//EN
METHOD:PUBLISH
X-PUBLISHED-TTL:P3D
REFRESH-INTERVAL:P3D
CALSCALE:GREGORIAN
BEGIN:VEVENT
DTSTART:20161207T013000Z
DTEND:20161207T030000Z
X-MICROSOFT-CDO-ALLDAYEVENT:FALSE
SUMMARY:A Holiday Performance by the Fox Valley Concert Band
DESCRIPTION:The Fox Valley Concert Band will perform an evening of lively holiday music on Tuesday\, Dec. 6\, 2016 at 7:30 p.m. at The Holmstad\, 700 W. Fabyan Parkway\, Batavia. Comprised of 80 volunteer musicians under the baton of conductor Colin Holman\, the band has been a favorite among Fox River Valley music aficionados since it was founded in 1983. Space is limited for this free performance. To register\, please visit www.TheHolmstad.org or call 877-226-7310.
X-ALT-DESC;FMTTYPE=text/html:The Fox Valley Concert Band will perform an evening of lively holiday music on Tuesday\, Dec. 6\, 2016 at 7:30 p.m. at The Holmstad\, 700 W. Fabyan Parkway\, Batavia. Comprised of 80 volunteer musicians under the baton of conductor Colin Holman\, the band has been a favorite among Fox River Valley music aficionados since it was founded in 1983. Space is limited for this free performance. To register\, please visit www.TheHolmstad.org or call 877-226-7310.
LOCATION:700 W. Fabyan Parkway\, Batavia\, Illinois
UID:e.1902.6520
SEQUENCE:3
DTSTAMP:20260425T174929Z
URL:https://business.bataviachamber.org/events/details/a-holiday-performance-by-the-fox-valley-concert-band-6520
END:VEVENT

END:VCALENDAR
