BEGIN:VCALENDAR
VERSION:2.0
PRODID:-//ChamberMaster//Event Calendar 2.0//EN
METHOD:PUBLISH
X-PUBLISHED-TTL:P3D
REFRESH-INTERVAL:P3D
CALSCALE:GREGORIAN
BEGIN:VEVENT
DTSTART:20090215T060000Z
DTEND:20090215T060000Z
X-MICROSOFT-CDO-ALLDAYEVENT:FALSE
SUMMARY:7th Annual Lincoln Dinner Theater
DESCRIPTION:Communities throughout the State of Illinois will be celebrating the bicentennial of Lincoln's birthday during 2009. Join the Batvaia Depot Museum and noted Lincoln interpreters max and Donna danielsas we celebrate the life of Abraham Lincoln and his family.
X-ALT-DESC;FMTTYPE=text/html:Communities throughout the State of Illinois will be celebrating the bicentennial of Lincoln's birthday during 2009. Join the Batvaia Depot Museum and noted Lincoln interpreters max and Donna danielsas we celebrate the life of Abraham Lincoln and his family.
LOCATION:Lincoln Inn Banquets
UID:e.1902.819
SEQUENCE:3
DTSTAMP:20260421T161931Z
URL:https://business.bataviachamber.org/events/details/7th-annual-lincoln-dinner-theater-02-15-2009-819
END:VEVENT

END:VCALENDAR
