BEGIN:VCALENDAR
VERSION:2.0
PRODID:-//ChamberMaster//Event Calendar 2.0//EN
METHOD:PUBLISH
X-PUBLISHED-TTL:P3D
REFRESH-INTERVAL:P3D
CALSCALE:GREGORIAN
BEGIN:VEVENT
DTSTART:20201116T150000Z
DTEND:20201201T050000Z
X-MICROSOFT-CDO-ALLDAYEVENT:FALSE
SUMMARY:5th Annual VIRTUAL Holiday Lights 5k Run/Walk for Mooseheart
DESCRIPTION:Kick off the holiday season by joining us for the VIRTUAL 5K Run/Walk to benefit Mooseheart! \n\nFor your safety and the safety of our Mooseheart kids on campus\, we've decided to take this year's event virtual. Run\, walk or stroll at a location and time that's most convenient for you. Create a team and get others to join the fun while fundraising for Mooseheart Child City & School. The holidays are the perfect time to do good for others and our Mooseheart kids need your support. They too deserve a chance in life and you can help give that gift!  \nOur website will have a link available from Nov. 16   11:55 pm on Nov. 30 so you can enter your best time. Awards for top times will be mailed in early December. Sponsorship opportunities are available too!
X-ALT-DESC;FMTTYPE=text/html:<h2 style="font-style:italic\;"><strong><span style="color:red"><span style="font-family:comic sans ms">Kick off the holiday season by joining us for the VIRTUAL 5K Run/Walk to benefit Mooseheart! </span></span></strong></h2>\n\n<p style="font-style: italic\;"><span style="font-family:comic sans ms"><span style="font-size:10.0pt">For your safety and the safety of our Mooseheart kids on campus\, we&rsquo\;ve decided to take this&nbsp\;</span></span><span style="color:#333333"><span style="font-family:comic sans ms"><span style="font-size:10.0pt">year&rsquo\;s event virtual. Run\, walk or stroll at a location and time that&rsquo\;s most convenient for you. Create a team and get others to join the fun while fundraising for Mooseheart Child City &amp\; School. The holidays are the perfect time to do good for others and our Mooseheart kids need your support. They too deserve a chance in life and you can help give that gift! &nbsp\;</span></span></span></p>\n<span style="color:#333333"><span style="font-family:comic sans ms"><span style="font-size:10.0pt">Our website will have a link available from Nov. 16 &ndash\; 11:55 pm on Nov. 30 so you can enter your best time. Awards for top times will be mailed in early December.&nbsp\;</span></span></span><span style="color:#333333"><span style="font-family:comic sans ms"><span style="font-size:10.0pt">Sponsorship opportunities are available too!</span></span></span>
LOCATION:A Place and a Time that's most convenient for you\, your family\, your friends\, neighbors\, coworkers\, from near and far.
UID:e.1902.12358
SEQUENCE:3
DTSTAMP:20260424T083543Z
URL:https://business.bataviachamber.org/events/details/5th-annual-virtual-holiday-lights-5k-run-walk-for-mooseheart-12358
END:VEVENT

END:VCALENDAR
