BEGIN:VCALENDAR
VERSION:2.0
PRODID:-//ChamberMaster//Event Calendar 2.0//EN
METHOD:PUBLISH
X-PUBLISHED-TTL:P3D
REFRESH-INTERVAL:P3D
CALSCALE:GREGORIAN
BEGIN:VEVENT
DTSTART:20090919T050000Z
DTEND:20090919T050000Z
X-MICROSOFT-CDO-ALLDAYEVENT:FALSE
SUMMARY:5K For United Way
DESCRIPTION:Join the Batavia United Way in their first 5K Family Walk. Bring the kids and enjoy a walk along theriver. Register at Houston St. begins at 7:am. Goodie Bags\, Raffles and food!
X-ALT-DESC;FMTTYPE=text/html:Join the Batavia United Way in their first 5K Family Walk. Bring the kids and enjoy a walk along theriver. Register at Houston St. begins at 7:am. Goodie Bags\, Raffles and food!
LOCATION:Batavia RiverWalk
UID:e.1902.960
SEQUENCE:3
DTSTAMP:20260421T044101Z
URL:https://business.bataviachamber.org/events/details/5k-for-united-way-09-19-2009-960
END:VEVENT

END:VCALENDAR
