BEGIN:VCALENDAR
VERSION:2.0
PRODID:-//ChamberMaster//Event Calendar 2.0//EN
METHOD:PUBLISH
X-PUBLISHED-TTL:P3D
REFRESH-INTERVAL:P3D
CALSCALE:GREGORIAN
BEGIN:VEVENT
DTSTART:20101023T050000Z
DTEND:20101023T050000Z
X-MICROSOFT-CDO-ALLDAYEVENT:FALSE
SUMMARY:5K for ''BAT''avia United Way
DESCRIPTION:Support 17 Non Profit agencies by running a 5K for United Way during Batfest weekend.
X-ALT-DESC;FMTTYPE=text/html:Support 17 Non Profit agencies by running a 5K for United Way during Batfest weekend.
LOCATION:Batavia River Walk
UID:e.1902.1150
SEQUENCE:3
DTSTAMP:20260420T042606Z
URL:https://business.bataviachamber.org/events/details/5k-for-bat-avia-united-way-10-23-2010-1150
END:VEVENT

END:VCALENDAR
